BEGIN:VCALENDAR
VERSION:2.0
PRODID:-//LPCN · Laboratoire de Psychologie Caen Normandie - ECPv6.15.18//NONSGML v1.0//EN
CALSCALE:GREGORIAN
METHOD:PUBLISH
X-WR-CALNAME:LPCN · Laboratoire de Psychologie Caen Normandie
X-ORIGINAL-URL:https://lpcn.unicaen.fr
X-WR-CALDESC:Évènements pour LPCN · Laboratoire de Psychologie Caen Normandie
REFRESH-INTERVAL;VALUE=DURATION:PT1H
X-Robots-Tag:noindex
X-PUBLISHED-TTL:PT1H
BEGIN:VTIMEZONE
TZID:Europe/Paris
BEGIN:DAYLIGHT
TZOFFSETFROM:+0100
TZOFFSETTO:+0200
TZNAME:CEST
DTSTART:20200329T010000
END:DAYLIGHT
BEGIN:STANDARD
TZOFFSETFROM:+0200
TZOFFSETTO:+0100
TZNAME:CET
DTSTART:20201025T010000
END:STANDARD
BEGIN:DAYLIGHT
TZOFFSETFROM:+0100
TZOFFSETTO:+0200
TZNAME:CEST
DTSTART:20210328T010000
END:DAYLIGHT
BEGIN:STANDARD
TZOFFSETFROM:+0200
TZOFFSETTO:+0100
TZNAME:CET
DTSTART:20211031T010000
END:STANDARD
BEGIN:DAYLIGHT
TZOFFSETFROM:+0100
TZOFFSETTO:+0200
TZNAME:CEST
DTSTART:20220327T010000
END:DAYLIGHT
BEGIN:STANDARD
TZOFFSETFROM:+0200
TZOFFSETTO:+0100
TZNAME:CET
DTSTART:20221030T010000
END:STANDARD
END:VTIMEZONE
BEGIN:VEVENT
DTSTART;VALUE=DATE:20211007
DTEND;VALUE=DATE:20211010
DTSTAMP:20260419T192006
CREATED:20211004T140242Z
LAST-MODIFIED:20250602T090644Z
UID:18968-1633564800-1633823999@lpcn.unicaen.fr
SUMMARY:Congrès de l’ESBRA 2021
DESCRIPTION:Le 18e congrès de la Société européenne de recherche biomédicale sur l’alcoolisme · ESBRA se tiendra à Timisoara\, en Roumanie\, du 7 au 9 octobre 2021. \nL’ESBRA est une organisation scientifique internationale à but non lucratif\, elle a pour objectifs de promouvoir la recherche médicale et biologique européenne sur l’alcoolisme et les effets de l’alcool\, ainsi que de diffuser des informations sur les problèmes biomédicaux liés à l’abus d’alcool. \nLe congrès abordera tous les domaines de recherche en alcoologie\, aussi bien cliniques que fondamentaux. Il apportera également un éclairage sur les avancées récentes et les innovations dans le domaine de la recherche sur les troubles liés à la consommation d’alcool et ses comorbidités\, avec l’ensemble des pathologies liées à l’alcool. Cet événement est l’occasion de partager des idées entre des chercheurs de différentes spécialités et de différents pays. \nUn des programmes de recherche du LPCN aborde ces thématiques. Il s’agit du programme ADDICTION\, dont les objectifs sont de développer des dispositifs de prévention universels et ciblés ainsi que des dispositifs d’accompagnement des personnes présentant des troubles de l’usage de l’alcool (TUAL). \nAussi\, une délégation de 4 membres du LPCN sera présente au congrès 2021 de l’ESBRA. \nCelle-ci est composée de : \nSimon DENIEL (doctorant) présentera un poster intitulé : « Neuropsychology of addiction in therapeutic communities: a specific cognitive semiology? » \n  \n  \n  \n  \n  \n \nMaxime Mauduy (doctorant)\, réalisera une communication orale\, lors d’un symposium destiné aux jeunes chercheurs\, celui-ci aura lieu le vendredi 8 octobre\, de 11h30 à 13h00.\nMauduy\, M.\, Gierski\, F.C.\, Bagneux\, V.\, Cabé\, N.\, Jacquet\, D.\, … & Mange\, J. (2021\, 8th October). A Dominance Analysis on Psychological Factors Associated with Binge Drinking among University Students [Young Symposia]. 18th ESBRA Congress\, Timisoara\, Romania. \n  \n  \n  \n  \n \nNicolas Mauny (post-doc)\, présentera un poster intitulé :  » Alcohol Use and Binge Drinking among First-Year University Students: Risk Factors and the Covid-19 Health Crisis Effect » \n  \n  \n  \n  \n  \n \nPauline Rasset (doctorante)\, réalisera une communication orale\, lors d’un symposium destiné aux jeunes chercheurs\, celui-ci aura lieu le samedi 9 octobre\, de 09h40 à 11h10.\nRasset\, P.\, Cabé\, N.\, & Mange\, J. (2021\, 9th october). More than just an alcoholic person: Preventing stigma and dehumanization with multiple categorization [Young Symposia]. ESBRA Congress 2021\, Timisoara\, Roumanie. \n  \n  \n  \n  \n\n\n\nProgramme\nFormulaire d’inscription\n\n\n\n 
URL:https://lpcn.unicaen.fr/evenement/congres-de-lesbra-2021/
CATEGORIES:Congrès - Colloque
ATTACH;FMTTYPE=image/jpeg:https://lpcn.unicaen.fr/wp-content/uploads/sites/5/2021/10/visuel-ESBRA.jpg
END:VEVENT
END:VCALENDAR