BEGIN:VCALENDAR
VERSION:2.0
PRODID:-//LPCN · Laboratoire de Psychologie Caen Normandie - ECPv6.15.18//NONSGML v1.0//EN
CALSCALE:GREGORIAN
METHOD:PUBLISH
X-WR-CALNAME:LPCN · Laboratoire de Psychologie Caen Normandie
X-ORIGINAL-URL:https://lpcn.unicaen.fr
X-WR-CALDESC:Évènements pour LPCN · Laboratoire de Psychologie Caen Normandie
REFRESH-INTERVAL;VALUE=DURATION:PT1H
X-Robots-Tag:noindex
X-PUBLISHED-TTL:PT1H
BEGIN:VTIMEZONE
TZID:Europe/Paris
BEGIN:DAYLIGHT
TZOFFSETFROM:+0100
TZOFFSETTO:+0200
TZNAME:CEST
DTSTART:20210328T010000
END:DAYLIGHT
BEGIN:STANDARD
TZOFFSETFROM:+0200
TZOFFSETTO:+0100
TZNAME:CET
DTSTART:20211031T010000
END:STANDARD
BEGIN:DAYLIGHT
TZOFFSETFROM:+0100
TZOFFSETTO:+0200
TZNAME:CEST
DTSTART:20220327T010000
END:DAYLIGHT
BEGIN:STANDARD
TZOFFSETFROM:+0200
TZOFFSETTO:+0100
TZNAME:CET
DTSTART:20221030T010000
END:STANDARD
BEGIN:DAYLIGHT
TZOFFSETFROM:+0100
TZOFFSETTO:+0200
TZNAME:CEST
DTSTART:20230326T010000
END:DAYLIGHT
BEGIN:STANDARD
TZOFFSETFROM:+0200
TZOFFSETTO:+0100
TZNAME:CET
DTSTART:20231029T010000
END:STANDARD
END:VTIMEZONE
BEGIN:VEVENT
DTSTART;VALUE=DATE:20220907
DTEND;VALUE=DATE:20220910
DTSTAMP:20260420T053358
CREATED:20220824T120711Z
LAST-MODIFIED:20250221T100714Z
UID:20257-1662508800-1662767999@lpcn.unicaen.fr
SUMMARY:Le LPCN au congrès Flux 2022
DESCRIPTION:L’objectif de The Flux Society est de faire progresser la compréhension du développement du cerveau humain. Pour cela\, elle favorise les échanges entre chercheurs\, éducateurs et étudiants\, ainsi que la diffusion des résultats de la recherche. Elle vise aussi à promouvoir la diffusion d’informations scientifiques à un large public\, en discutant des implications dans les domaines de l’éducation\, de la santé\, du droit des mineurs\, de la parentalité et de la santé mentale. \nThe Flux Society organise pour la première fois en 2 ans\, un congrès international en présentiel\, à la Sorbonne\, du 7 au 9 septembre 2022. \n\nQuatre membres du LPCN participeront à cet événement \n  \nLe 7 septembre de 17h45 à 19h15 – Posters Session #1\n \n  \nMarie Anquetil est doctorante au LPCN\, elle prépare une thèse en Psychologie sur la thématique du dépistage précoce des troubles neurodéveloppementaux\, sous la direction de Sandrine Rossi (PR\, LPCN) et de Nadège Roche-Labarbe (MC HDR\, COMETE\, université de Caen Normandie). \nElle présentera un poster sur les données recueillies lors du projet MEDiATE\, notamment sur le volet « mesures cérébrales en électroencéphalographie ».\n  \n \n  \nSandrine Rossi est professeure au LPCN\, elle s’intéresse au développement cognitif de la pensée chez l’humain\, au processus d’autorégulation et à la métacognition. Elle est directrice adjointe du LPCN. \nElle sera également présente au congrès Flux dans le cadre de cette présentation \n\nAbstract: \nSensory Prediction (SP) in the tactile modality was suggested as an early precursor of cognitive development (Dumont et al.\, 2017). Predictive mechanisms would form the basis of attention development by sustaining self-regulation processes such as habituation or anticipation (Bubic et al.\, 2010). \nThe aim of this study is to investigate how tactile prediction and other tactile processing phenomena are related to executive attention at preschool age.\nChildren (aiming at N=70) between 4 and 5 years old\, either born at term or born prematurely\, perform the following tasks in random order while 128-electrodes electroencephalography is being acquired: an adapted version of the Child-Attention Network Task (ANT\, a measure of executive attention) (Rueda et al.\, 2004)\, and a tactile SP task (vibrotactile stimuli are presented on the forearm randomly interspersed with deviant and omitted stimuli).\nWe will perform regression analyses using the generalized linear model to test the following hypotheses: \n\nchildren who have the most impaired responses to executive conflict in the Child-ANT – reaction time in ms and neuronal evoked potentials (EP) amplitude in μV – will also have the most atypical EP to deviant stimuli and omissions in the tactile SP task.\nchildren with impaired attention will have lower repetition suppression (RS\, the decrease of EP amplitude) of tactile stimuli along the sequence.\nchildren born at term will have better ANT scores\, SP and RS than prematurely born children.\n\n\nIf sensory regulation mechanisms are markers of attention development\, we could use such measures to screen for children at-risk of atypical attentional development\, and to design suitable remediation programs.\nThis study is pre-registered with the US National Institute of Health registry of clinical trials (NCT04548245):\n https://www.clinicaltrials.gov/ct2/show/study/NCT04548245?term=MEDiATE&cntry=FR&draw=2&rank=3\n\n  \ncrédit image : DECODE\, laboratoire COMETE\nLe 7 septembre de 17h45 à 19h15 – Posters Session #1\n \nVictoria Dumont est docteure en psychologie et ingénieure de recherche au laboratoire COMETE | U 1075 et membre associé du LPCN. Elle travaille sur les compétences somatosensorielles néonatales des nouveau-nés prématurés au sein du programme scientifique DECODE. \nElle présentera un poster intitulé : « Investigating tactile processing precursors of cognitive development in the premature newborn brain. » Victoria Dumont\, Anne-Lise Marais\, Marie Anquetil\, Sandrine Rossi\, Anne-sophie Trentesaux\, Nadège Roche-Labarbe.\n \n  \nNadège Roche-Labarbe est enseignante-chercheuse au laboratoire COMETE | U 1075 et membre associé du LPCN. \nElle sera présente au congrès Flux et représentera le programme DECODE ; un programme scientifique destiné à articuler des projets de Recherche sur le thème du développement des comportements et du dépistage des troubles du développement. \nTrois communications présentées au congrès donneront un aperçu des résultats des différents projets issus du programme. \n  \n\nProgramme et informations sur le congrès
URL:https://lpcn.unicaen.fr/evenement/le-lpcn-au-congres-flux-2022/
LOCATION:Paris · Sorbonne\, 17 Rue de la Sorbonne\, Paris\, 75005\, France
CATEGORIES:Communications
ATTACH;FMTTYPE=image/jpeg:https://lpcn.unicaen.fr/wp-content/uploads/sites/5/2022/08/fluxcongress.jpg
END:VEVENT
END:VCALENDAR