BEGIN:VCALENDAR
VERSION:2.0
PRODID:-//LPCN · Laboratoire de Psychologie Caen Normandie - ECPv6.15.18//NONSGML v1.0//EN
CALSCALE:GREGORIAN
METHOD:PUBLISH
X-WR-CALNAME:LPCN · Laboratoire de Psychologie Caen Normandie
X-ORIGINAL-URL:https://lpcn.unicaen.fr
X-WR-CALDESC:Évènements pour LPCN · Laboratoire de Psychologie Caen Normandie
REFRESH-INTERVAL;VALUE=DURATION:PT1H
X-Robots-Tag:noindex
X-PUBLISHED-TTL:PT1H
BEGIN:VTIMEZONE
TZID:Europe/Paris
BEGIN:DAYLIGHT
TZOFFSETFROM:+0100
TZOFFSETTO:+0200
TZNAME:CEST
DTSTART:20210328T010000
END:DAYLIGHT
BEGIN:STANDARD
TZOFFSETFROM:+0200
TZOFFSETTO:+0100
TZNAME:CET
DTSTART:20211031T010000
END:STANDARD
BEGIN:DAYLIGHT
TZOFFSETFROM:+0100
TZOFFSETTO:+0200
TZNAME:CEST
DTSTART:20220327T010000
END:DAYLIGHT
BEGIN:STANDARD
TZOFFSETFROM:+0200
TZOFFSETTO:+0100
TZNAME:CET
DTSTART:20221030T010000
END:STANDARD
BEGIN:DAYLIGHT
TZOFFSETFROM:+0100
TZOFFSETTO:+0200
TZNAME:CEST
DTSTART:20230326T010000
END:DAYLIGHT
BEGIN:STANDARD
TZOFFSETFROM:+0200
TZOFFSETTO:+0100
TZNAME:CET
DTSTART:20231029T010000
END:STANDARD
END:VTIMEZONE
BEGIN:VEVENT
DTSTART;VALUE=DATE:20221007
DTEND;VALUE=DATE:20221015
DTSTAMP:20260420T135720
CREATED:20221007T150653Z
LAST-MODIFIED:20250221T100533Z
UID:32632-1665100800-1665791999@lpcn.unicaen.fr
SUMMARY:Fête de la science 2022 : les gardiens du climat reviennent !
DESCRIPTION:La Fête de la Science est organisée chaque année par le Ministère de l’Enseignement supérieur et de la Recherche depuis 1991. Cet événement de culture scientifique et de vulgarisation propose dix jours de manifestations gratuites en France métropolitaine\, outre-mer et à l’international\, entre le mois d’octobre et de novembre.\n\nPendant cette 31ème édition\, plusieurs types de manifestations sont organisées\, dont des projections. C’est dans ce cadre que le film documentaire Les Gardiens du Climat sera diffusé de nouveau.\n\n \n\nImaginez un documentaire de super héros\, où les héros sont Normands (Thoréfactor\, Docteur Elektro\, Dynamo\, Textilman) et où chacun agit dans sa vie quotidienne pour le climat. Pour autant\, du changement climatique au(x) changement(s) de comportement(s)\, la prise de conscience semble vulnérable à des kryptonites qui affaiblissent notre pouvoir d’action. Pourquoi ? Chacun se tourne vers le méchant masqué Consoman. Ainsi\, les super héros s’allient à une équipe d’experts et de scientifiques qui aideront le commun des humains à mieux comprendre les méandres de nos choix\, et pourquoi changement et adaptation sont des alliés précieux.\n\nLe réalisateur Erik Fretel twiste l’univers héroïque au service d’une cause universelle\, le climat\, relocalisée sur la micro-planète Normandie. La mission de la MJC de Bernay\, soutenue par la Région Normandie\, s’incarne dans la co-construction du film\, dans une démarche pédagogique de sensibilisation au changement climatique\, associant les enjeux généraux et locaux\, les dimensions collectives et individuelles.\n\n\n\n\n\nDans l’équipe d’experts et de scientifiques qui s’allient avec les super héros\, nous retrouvons Cécile Sénémeaud\, directrice du LPCN et professeure de psychologie sociale à l’université de Caen Normandie.\n\nSes travaux de recherche portent sur la compréhension et l’accompagnement du changement\, dans le domaine du développement durable\, de la transition écologique et de la santé publique.\n\n\n\nDates et lieux des projections :\n7 oct. 2022 18:45 > 20:30 Médiathèque Voyage en pages Place de la Libération 76510 Saint-Nicolas-d’Aliermont\n7 oct. 2022 20:00 > 22:00 Espace culturel du Houlme Place du Général de Gaulle 61220 Briouze\n13 oct. 2022 19:00 > 21:00 Médiathèque Colleville-Montgomery 11 Grande Rue 14880 Colleville-Montgomery\n14 oct. 2022 18:00 > 20:30 Médiathèque Le phénix 10 Rue Elsa Triolet 14460 Colombelles\n\nInscription et informations\n\nPour en savoir plus sur cette collaboration : l’article initial présentant le film \n\n\n\n
URL:https://lpcn.unicaen.fr/evenement/fete-de-la-science-2022-les-gardiens-du-climat-reviennent/
CATEGORIES:Communications
ATTACH;FMTTYPE=image/jpeg:https://lpcn.unicaen.fr/wp-content/uploads/sites/5/2022/03/gardienclimatlight.jpg
END:VEVENT
END:VCALENDAR