BEGIN:VCALENDAR
VERSION:2.0
PRODID:-//LPCN · Laboratoire de Psychologie Caen Normandie - ECPv6.15.18//NONSGML v1.0//EN
CALSCALE:GREGORIAN
METHOD:PUBLISH
X-WR-CALNAME:LPCN · Laboratoire de Psychologie Caen Normandie
X-ORIGINAL-URL:https://lpcn.unicaen.fr
X-WR-CALDESC:Évènements pour LPCN · Laboratoire de Psychologie Caen Normandie
REFRESH-INTERVAL;VALUE=DURATION:PT1H
X-Robots-Tag:noindex
X-PUBLISHED-TTL:PT1H
BEGIN:VTIMEZONE
TZID:Europe/Paris
BEGIN:DAYLIGHT
TZOFFSETFROM:+0100
TZOFFSETTO:+0200
TZNAME:CEST
DTSTART:20220327T010000
END:DAYLIGHT
BEGIN:STANDARD
TZOFFSETFROM:+0200
TZOFFSETTO:+0100
TZNAME:CET
DTSTART:20221030T010000
END:STANDARD
BEGIN:DAYLIGHT
TZOFFSETFROM:+0100
TZOFFSETTO:+0200
TZNAME:CEST
DTSTART:20230326T010000
END:DAYLIGHT
BEGIN:STANDARD
TZOFFSETFROM:+0200
TZOFFSETTO:+0100
TZNAME:CET
DTSTART:20231029T010000
END:STANDARD
BEGIN:DAYLIGHT
TZOFFSETFROM:+0100
TZOFFSETTO:+0200
TZNAME:CEST
DTSTART:20240331T010000
END:DAYLIGHT
BEGIN:STANDARD
TZOFFSETFROM:+0200
TZOFFSETTO:+0100
TZNAME:CET
DTSTART:20241027T010000
END:STANDARD
END:VTIMEZONE
BEGIN:VEVENT
DTSTART;TZID=Europe/Paris:20230531T083000
DTEND;TZID=Europe/Paris:20230602T130000
DTSTAMP:20260420T095032
CREATED:20230523T143900Z
LAST-MODIFIED:20250221T100533Z
UID:33461-1685521800-1685710800@lpcn.unicaen.fr
SUMMARY:Le LPCN au 8ème Colloque Interdisciplinaire de l’ARPEnv
DESCRIPTION:L’Association pour la Recherche en Psychologie Environnementale (ARPEnv) et le LPS (Laboratoire de Psychologie Sociale\, UR 849) organisent le 8ème Colloque Interdisciplinaire de l’ARPEnv : Crise climatique\, crises sociales : Résilience et ruptures. Il se tiendra du 31 mai au 2 juin 2023 à l’Université d’Aix-Marseille. \n\n\n\nLes changements climatiques ont fait émerger la science des dimensions humaines des changements climatiques (Swim et al.\, 2011). Ainsi la psychologie sociale et environnementale contribuent activement à l’atténuation des changements climatiques tant au niveau climatique qu’à l’adaptation de ses effets. Ce colloque sera l’occasion de faire un état des lieux et de dégager des pistes de recherche en phase avec les défis climatiques actuels\, en interaction avec des acteurs locaux.  \n\n\n\nLe LPCN sera présent lors de cet événement. \n\n\n\nCamille Langlais (doctorante\, LPCN)  participera à la session Distance Psychologique\, le vendredi 2 juin de 11h45 à 12h45\, elle réalisera une communication orale intitulée : \n\n\n\n« A combien de kilomètres et d’années de moi ? » : vers une nouvelle méthode pour réduire la distance psychologique au changement climatique. Camille LANGLAIS (doctorante\, LPCN\, université de Caen Normandie)\, Christophe DEMARQUE (MC\, LPS\, université Aix-Marseille)\, Maxime MAUDUY (post-doc\, LPCN\, université de Caen Normandie)\, CANTAT\, Cécile SÉNÉMEAUD (PR\, LPCN\, université de Caen Normandie). \n\n\n\n\n\n\nCamille Langlais prépare une thèse en psychologie intitulée « Vite\, ça chauffe : faut-il réduire la distance psychologique au changement climatique pour favoriser les écogestes ? »\, sous la direction de Cécile Sénémeaud (PR\, LPCN) et de Christophe Démarque (MC\, ALLSH\, Aix Marseille Université).
URL:https://lpcn.unicaen.fr/evenement/le-lpcn-au-8eme-colloque-interdisciplinaire-de-larpenv/
LOCATION:Aix-en-Provence · Aix Marseille Université · Faculté des lettres et sciences humaines\, Faculté des arts\, lettres\, langues et sciences humaines d'Aix-Marseille\, 29 Avenue Robert Schuman\, Aix-en-Provence\, 13100\, France
CATEGORIES:Communications
ATTACH;FMTTYPE=image/jpeg:https://lpcn.unicaen.fr/wp-content/uploads/sites/5/2023/05/arpenv-clim.jpg
END:VEVENT
END:VCALENDAR