BEGIN:VCALENDAR
VERSION:2.0
PRODID:-//LPCN · Laboratoire de Psychologie Caen Normandie - ECPv6.15.18//NONSGML v1.0//EN
CALSCALE:GREGORIAN
METHOD:PUBLISH
X-ORIGINAL-URL:https://lpcn.unicaen.fr
X-WR-CALDESC:Évènements pour LPCN · Laboratoire de Psychologie Caen Normandie
REFRESH-INTERVAL;VALUE=DURATION:PT1H
X-Robots-Tag:noindex
X-PUBLISHED-TTL:PT1H
BEGIN:VTIMEZONE
TZID:Europe/Paris
BEGIN:DAYLIGHT
TZOFFSETFROM:+0100
TZOFFSETTO:+0200
TZNAME:CEST
DTSTART:20220327T010000
END:DAYLIGHT
BEGIN:STANDARD
TZOFFSETFROM:+0200
TZOFFSETTO:+0100
TZNAME:CET
DTSTART:20221030T010000
END:STANDARD
BEGIN:DAYLIGHT
TZOFFSETFROM:+0100
TZOFFSETTO:+0200
TZNAME:CEST
DTSTART:20230326T010000
END:DAYLIGHT
BEGIN:STANDARD
TZOFFSETFROM:+0200
TZOFFSETTO:+0100
TZNAME:CET
DTSTART:20231029T010000
END:STANDARD
BEGIN:DAYLIGHT
TZOFFSETFROM:+0100
TZOFFSETTO:+0200
TZNAME:CEST
DTSTART:20240331T010000
END:DAYLIGHT
BEGIN:STANDARD
TZOFFSETFROM:+0200
TZOFFSETTO:+0100
TZNAME:CET
DTSTART:20241027T010000
END:STANDARD
END:VTIMEZONE
BEGIN:VEVENT
DTSTART;TZID=Europe/Paris:20230613T090000
DTEND;TZID=Europe/Paris:20230613T163000
DTSTAMP:20260420T085141
CREATED:20230530T100452Z
LAST-MODIFIED:20230530T161915Z
UID:33508-1686646800-1686673800@lpcn.unicaen.fr
SUMMARY:8ème rencontre de psychiatrie et addictologie
DESCRIPTION:L’établissement public de santé Barthélemy Durand (EPS BD) propose à la population de l’Essonne des soins en santé mentale et en psychiatrie. Depuis 9 ans\, une conférence est organisée par le Dr Christelle Peybernard (cheffe de service du CSAPA d’Arpajon) et le Professeur Alain Dervaux (chef de service de la filière universitaire d’addictologie départementale).Le thème de cette 8ème rencontre de psychiatrie et addictologie concerne les addictions aux jeux vidéo et à internet. Cette journée d’échanges sera l’occasion d’aborder les facteurs de risques\, les stratégies des concepteurs de jeux\, les comorbidités psychiatriques des addictions aux écrans\, les outils de dépistage\, et enfin\, les thérapies les plus recommandées. Elle se déroulera le 13 juin\, de 9h à 16h30\, sur le site d’Étampes et en visio. \n\n\n\nLe LPCN sera présent lors de cet événement. \n\n\n\nMaud Lemercier-Dugarin (MC\, LPCN) interviendra à 14h et réalisera une communication intitulée : \n\n\n\n« Quels outils de dépistage en pratique ? »\n\n\n\n\n\n\nMaud Lemercier-Dugarin est enseignante-chercheuse au LPCN.Elle est spécialisée dans la prise en charge des addictions sans substances et elle s’intéresse à l’évaluation des Thérapies par Exposition à la Réalité Virtuelle (TERV) appliquées au domaine de l’addictologie. Elle intervient en particulier sur le volet 1 de l’étude ADUC\, qui porte sur l’identification des déterminants des addictions\, et sur le volet 3 de l’étude\, qui porte sur la conception des actions de prévention et des prises en charge ciblées en direction des étudiants de l’université de Caen Normandie.
URL:https://lpcn.unicaen.fr/evenement/8eme-rencontre-de-psychiatrie-et-addictologie/
LOCATION:Étampes · Établissement public de santé Barthélemy Durand\, EPS Barthélemy Durand - Site d'hospitalisation d'Étampes\, Avenue du 8 Mai 1945\, Étampes\, 91150\, France
CATEGORIES:Communications
ATTACH;FMTTYPE=image/jpeg:https://lpcn.unicaen.fr/wp-content/uploads/sites/5/2023/05/etampes.jpg
ORGANIZER;CN="%C3%89tablissement public de sant%C3%A9 Barth%C3%A9lemy Durand":MAILTO:contact@eps-etampes.fr
END:VEVENT
END:VCALENDAR