BEGIN:VCALENDAR
VERSION:2.0
PRODID:-//LPCN · Laboratoire de Psychologie Caen Normandie - ECPv6.15.18//NONSGML v1.0//EN
CALSCALE:GREGORIAN
METHOD:PUBLISH
X-ORIGINAL-URL:https://lpcn.unicaen.fr
X-WR-CALDESC:Évènements pour LPCN · Laboratoire de Psychologie Caen Normandie
REFRESH-INTERVAL;VALUE=DURATION:PT1H
X-Robots-Tag:noindex
X-PUBLISHED-TTL:PT1H
BEGIN:VTIMEZONE
TZID:Europe/Paris
BEGIN:DAYLIGHT
TZOFFSETFROM:+0100
TZOFFSETTO:+0200
TZNAME:CEST
DTSTART:20220327T010000
END:DAYLIGHT
BEGIN:STANDARD
TZOFFSETFROM:+0200
TZOFFSETTO:+0100
TZNAME:CET
DTSTART:20221030T010000
END:STANDARD
BEGIN:DAYLIGHT
TZOFFSETFROM:+0100
TZOFFSETTO:+0200
TZNAME:CEST
DTSTART:20230326T010000
END:DAYLIGHT
BEGIN:STANDARD
TZOFFSETFROM:+0200
TZOFFSETTO:+0100
TZNAME:CET
DTSTART:20231029T010000
END:STANDARD
BEGIN:DAYLIGHT
TZOFFSETFROM:+0100
TZOFFSETTO:+0200
TZNAME:CEST
DTSTART:20240331T010000
END:DAYLIGHT
BEGIN:STANDARD
TZOFFSETFROM:+0200
TZOFFSETTO:+0100
TZNAME:CET
DTSTART:20241027T010000
END:STANDARD
END:VTIMEZONE
BEGIN:VEVENT
DTSTART;TZID=Europe/Paris:20230623T090000
DTEND;TZID=Europe/Paris:20230623T163000
DTSTAMP:20260424T012838
CREATED:20230602T124823Z
LAST-MODIFIED:20230602T124825Z
UID:47861-1687510800-1687537800@lpcn.unicaen.fr
SUMMARY:Colloque 2023 de l'institut de recherche et d’enseignement en addictologie
DESCRIPTION:L’IREMA (institut de recherche et d’enseignement en addictologie) est une association qui s’investit dans la prévention et la clinique des addictions\, qu’il s’agisse de l’usage de substances psychoactives (tabac\, alcool\, médicaments\, drogues illicites…) que des comportements addictogènes (jeux de hasard et d’argent\, jeux vidéo\, troubles des conduites alimentaires\, etc.). La formation professionnelle\, la recherche et le conseil en addictologie sont au cœur de ses projets. \n\n\n\nLa journée de l’IREMA 2023 aura pour thème « Une nouvelle ère de la pratique addictologique »\, elle se tiendra le 23 juin\, à Paris. Un membre du LPCN sera présent lors de cet événement. \n\n\n\nMaud Lemercier-Dugarin (MC\, LPCN) interviendra à 14h30\, elle réalisera une communication intitulée :\n\n\n\n« Prise en compte du joueur excessif et redéfinition du soin en addictologie » \n\n\n\n\n\n\nMaud Lemercier-Dugarin est enseignante-chercheuse au LPCN.Elle est spécialisée dans la prise en charge des addictions sans substances et elle s’intéresse à l’évaluation des Thérapies par Exposition à la Réalité Virtuelle (TERV) appliquées au domaine de l’addictologie. Elle intervient en particulier sur le volet 1 de l’étude ADUC\, qui porte sur l’identification des déterminants des addictions\, et sur le volet 3 de l’étude\, qui porte sur la conception des actions de prévention et des prises en charge ciblées en direction des étudiants de l’université de Caen Normandie.
URL:https://lpcn.unicaen.fr/evenement/colloque-2023-de-linstitut-de-recherche-et-denseignement-en-addictologie/
LOCATION:Paris · Colloque de l’IREMA · Salle Seforex\, 251-253 rue du Faubourg Saint-Martin\, Paris\, 75010\, France
CATEGORIES:Communications
ATTACH;FMTTYPE=image/jpeg:https://lpcn.unicaen.fr/wp-content/uploads/sites/5/2023/06/irema.jpg
ORGANIZER;CN="Institut de recherche et d'enseignement en addictologie (IREMA)":MAILTO:irema@irema.net
END:VEVENT
END:VCALENDAR