BEGIN:VCALENDAR
VERSION:2.0
PRODID:-//LPCN · Laboratoire de Psychologie Caen Normandie - ECPv6.15.18//NONSGML v1.0//EN
CALSCALE:GREGORIAN
METHOD:PUBLISH
X-ORIGINAL-URL:https://lpcn.unicaen.fr
X-WR-CALDESC:Évènements pour LPCN · Laboratoire de Psychologie Caen Normandie
REFRESH-INTERVAL;VALUE=DURATION:PT1H
X-Robots-Tag:noindex
X-PUBLISHED-TTL:PT1H
BEGIN:VTIMEZONE
TZID:Europe/Paris
BEGIN:DAYLIGHT
TZOFFSETFROM:+0100
TZOFFSETTO:+0200
TZNAME:CEST
DTSTART:20220327T010000
END:DAYLIGHT
BEGIN:STANDARD
TZOFFSETFROM:+0200
TZOFFSETTO:+0100
TZNAME:CET
DTSTART:20221030T010000
END:STANDARD
BEGIN:DAYLIGHT
TZOFFSETFROM:+0100
TZOFFSETTO:+0200
TZNAME:CEST
DTSTART:20230326T010000
END:DAYLIGHT
BEGIN:STANDARD
TZOFFSETFROM:+0200
TZOFFSETTO:+0100
TZNAME:CET
DTSTART:20231029T010000
END:STANDARD
BEGIN:DAYLIGHT
TZOFFSETFROM:+0100
TZOFFSETTO:+0200
TZNAME:CEST
DTSTART:20240331T010000
END:DAYLIGHT
BEGIN:STANDARD
TZOFFSETFROM:+0200
TZOFFSETTO:+0100
TZNAME:CET
DTSTART:20241027T010000
END:STANDARD
END:VTIMEZONE
BEGIN:VEVENT
DTSTART;TZID=Europe/Paris:20230626T080000
DTEND;TZID=Europe/Paris:20230627T180000
DTSTAMP:20260420T085139
CREATED:20230622T154244Z
LAST-MODIFIED:20250221T100552Z
UID:47909-1687766400-1687888800@lpcn.unicaen.fr
SUMMARY:Le LPCN au colloque international Piaget-RIPSYDEVE 2023
DESCRIPTION:Le colloque international PIAGET-RIPSYDEVE est organisé par le Centre Jean Piaget (Université de Genève) en collaboration avec l’Association du Réseau Interuniversitaire de PSYchologie du DEVeloppement et de l’Education. \n\n\n\nLe thème de cette édition porte sur les enjeux et les défis du XXIème siècle pour les recherches en psychologie du développement et de l’éducation. Les chercheurs et praticiens vont devoir relever les grands défis scientifiques et sociétaux majeurs du XXIème siècle afin de préparer un avenir aux générations futures. Le colloque se tiendra les 26 et 27 juin 2023 à l’Université de Genève. \n\n\n\nPlusieurs membres du LPCN interviendront lors de l’édition 2023. \n\n\n\nConférences orales 1 – Cognition – LUNDI 26 JUIN DE 10H50 – 12H30 – SALLE 2160\n\n\n\n\nSandrine Rossi est professeure au LPCN\, elle s’intéresse au développement cognitif de la pensée chez l’humain\, au processus d’autorégulation et à la métacognition. Elle est directrice adjointe du LPCN. \n\n\n\n\nElle réalisera une présentation orale :  \n\n\n\nDessine-moi un cerveau : L’utilisation du dessin comme outil pour examiner le développement des connaissances des enfants sur la « boîte noire ».\n\n\n\nSandrine Rossi\, Nathalie Blanc\, Arnaud Mortier\, & Claire Brechet \n\n\n\nConférences orales 13 – Pratiques éducatives – MARDI 27 JUIN DE 14H50 – 16H30 – SALLE 2160\n\n\n\n\nAmélie Lubin est coordinatrice du programme de recherche SCOPE\, à travers différents projets de recherche ce programme prend en compte le fonctionnement cognitif et sociocognitif de l’enfant et de l’adolescent pour permettre la construction des connaissances et compétences nécessaires aux apprentissages. \n\n\n\n\nElle réalisera une présentation orale :  \n\n\n\nLe programme pédagogique JeuMETACOGITE : Améliorer son fonctionnement exécutif par une approche métacognitive tout en jouant à l’école.\n\n\n\nAmélie Lubin\, Anick Pelletier\, Charlotte Montcharmont\, Arnaud Mortier\, Johnny Leveneur\, Sandrine Rossi\, Patrick Charland\, Patrick Potvin\, & Céline Lanoë \n\n\n\nSession communication affichée – poster 31\n\n\n\nLe programme pédagogique JeuMETACOGITE fera également l’objet d’un poster\, présenté par Céline Lanoë. \n\n\n\n\nCéline Lanoë est Maîtresse de Conférences en Psychologie du Développement à l’Université de Caen Normandie. Son expertise porte sur les liens entre le contrôle cognitif\, le langage et les apprentissages scolaires dans le domaine de l’éducation. Au LPCN elles est impliqué dans le programme de recherche SCOPE – Les Sciences COgnitives Pour l’Éducation. \n\n\n\n\nConférences orales 15 – numérique et éducation II – Mardi 27 Juin 14h50 – 16h30 – SALLE 2193\n\n\n\n\nFabien Bitu est docteur en psychologie et membre associé du LPCN\, il a soutenu le 13/12/2022 sa thèse de doctorat en Psychologie intitulée « L’apport des technologies interactives dans l’étude des composantes sensorielles de la créativité »\, sous la direction de Michèle Molina (PR\, LPCN) et Béatrice Galinon-Melenec (PR\, IDEES\, Le Havre Normandie Université). Il est ATER à l’université de Rouen Normandie. \n\n\n\n\nIl réalisera une présentation orale :  \n\n\n\nLes effets différentiels des écrans passifs\, actifs et interactifs des enfants et adolescents. \n\n\n\nFabien Bitu\, André Tricot\, & Michèle Molina \n\n\n\n\nRésumé\nCette revue synthétique apporte un éclairage sur les effets des technologies numériques chez les enfants et adolescents selon le type d’écran utilisé : passif\, actif\, et interactif. Malgré la multiplication des recherches sur les effets des écrans (i.e. Clément\, 2020 ; Lejeune & Gentaz\, 2022)\, leurs effets positifs ou négatifs sont encore envisagés sans différencier systématiquement le degré d’interactivité qu’ils impliquent\, modulant le degré d’engagement physique\, cognitif\, et social au cours d’une même tâche (Chi & Wylie\, 2014 ; Fiorella & Mayer\, 2015). Sweetser et al. (2012) différencient les écrans passifs qui impliquent une réception passive de l’information (i.e. la télévision) et les écrans actifs qui impliquent un engagement cognitif ou physique pendant une activité (i.e. une console de jeu vidéo). L’arrivée des smartphones puis des tablettes tactiles au cours de ces 15 dernières années marque l’avènement des écrans interactifs. Ils peuvent être utilisés directement du bout du doigt\, avec de simples gestes et offrent un feedback instantané et multimodal des actions réalisées (Piotrowski & Meester\, 2018 ; Roskos et al.\, 2014). L’analyse de la littérature révèle que l’utilisation d’écrans passifs apporte majoritairement des effets délétères sur le développement du langage (i.e. Barr et al.\, 2010 ; Tomopoulos et al.\, 2010)\, de l’attention (i.e. Veraska et al.\, 2021)\, de la motricité (Guglielminetti et al.\, 2022)\, les performances académiques (i.e. Tremblay et al.\, 2011) et favorise les comportements violents (i.e. Parkes et al.\, 2013). Les recherches portant sur les écrans actifs dressent des conclusions mitigées. Si certaines études rapportent des effets négatifs sur les performances académiques (Brunborg et al.\, 2014) et le bien-être\, en favorisant la dépression (Romers et al.\, 2013) et l’expression de comportements violents (Anderson et al.\, 2010)\, d’autres ne rapportent aucun lien entre l’utilisation des jeux vidéo et les comportements violents observés chez l’enfant et l’adolescent (Przybylski & Weinstein\, 2019). La majorité des études récentes rapportent des bénéfices sur les comportements pro-sociaux (Lesimple et al.\, 2022) et le développement cognitif (i.e. Choi et al.\, 2020)\, qui peuvent se retrouver auprès d’enfants et adolescents à Besoins Educatifs Particuliers (BEP\, Bertoni et al.\, 2021). La littérature explorant les effets des écrans interactifs\, comme les tablettes tactiles\, rapporte des effets globalement bénéfiques pour l’enfant et l’adolescent\, principalement centré autour des apprentissages scolaires\, comme la lecture (i.e. Radesky et al.\, 2015)\, l’écriture (i.e. Patchan & Puranik\, 2016)\, les mathématiques (i.e. Moyer-Packenham et al.\, 2016) ou encore la créativité (i.e. Bitu et al.\, 2022). Ces bénéfices se retrouvent chez les enfants et adolescents à BEP (i.e. Berninger et al.\, 2015). En révélant les effets différents de chaque type d’écran employé (passif\, actif\, ou interactif)\, cette revue de littérature souligne la nécessité de considérer les spécificités des écrans dans les études à venir. Toutefois\, le contenu des activités proposées (Chi & Wylie\, 2014) et la façon dont ces écrans sont utilisés pourraient modifier les effets de chaque type d’écran\, ce qui appelle à travailler davantage autour du cadre mis en place dans leur utilisation (Adelantado-Renau et al.\, 2019 ; Konca\, 2022). \n\n\n\n\n\nSession communication affichée – poster 30\n\n\n\nSarah Ferrara (doctorante\, C2S\, Université de Reims Champagne-Ardenne) collabore avec Marc Aguert (MC\, LPCN) elle réalisera également une présentation lors du colloque. \n\n\n\nLa compréhension du langage chez l’enfant pourrait-elle être juste « suffisamment bonne » ? \n\n\n\nFerrara\, S.\, Aguert\, M.\, & Declercq\, C.
URL:https://lpcn.unicaen.fr/evenement/le-lpcn-au-colloque-international-piaget-ripsydeve-2023/
LOCATION:Genève · Université de Genève\, Université de Genève / Uni Mail\, Boulevard du Pont-d'Arve 40\, Genève\, 1211
CATEGORIES:Communications
ATTACH;FMTTYPE=image/jpeg:https://lpcn.unicaen.fr/wp-content/uploads/sites/5/2023/06/ripsy.jpg
END:VEVENT
BEGIN:VEVENT
DTSTART;TZID=Europe/Paris:20230626T083000
DTEND;TZID=Europe/Paris:20230628T140000
DTSTAMP:20260420T085139
CREATED:20230619T130839Z
LAST-MODIFIED:20250221T100533Z
UID:47887-1687768200-1687960800@lpcn.unicaen.fr
SUMMARY:16ème Colloque Jeunes Chercheurs et Jeunes Chercheuses ADRIPS
DESCRIPTION:L’ADRIPS\, le Laboratoire Laboratoire Cognition\, Langues\, Langage\, Ergonomie (CLLE – UMR 5263) et l’Université Toulouse Jean Jaurès organisent le 16ème Colloque Jeunes Chercheurs et Jeunes Chercheuses (CJC). \n\n\n\nCe colloque donne l’opportunité aux doctorants et doctorantes ainsi qu’aux jeunes chercheurs et chercheuses en psychologie sociale de présenter leurs travaux et d’être évalués par leurs pairs. Ce colloque a aussi pour but de favoriser l’insertion dans le monde universitaire\, pour ceux et celles qui se destinent à une carrière académique dans l’enseignement supérieur\, en France et en Europe. \n\n\n\nLe CJC se déroulera à Toulouse du 26 au 28 juin 2023.  \n\n\n\nDeux membres du LPCN seront présents lors de cet événement. \n\n\n\nCamille Langlais (doctorante\, LPCN) interviendra le mardi 27 juin\, entre 9h et 10h30\, elle réalisera une communication intitulée :\n\n\n\n« Sauver la planète ou manger plus de légumineuses ? » : étude de l’identification des raisons et des moyens de réduire sa consommation de viande pour mieux comprendre l’intention de le faire.\n\n\n\nJessica Mange (MC HDR\, LPCN) sera également présente lors de cette édition du CJC\, afin de contribuer à la richesse des échanges scientifiques. \n\n\n\n\n\n\nCamille Langlais prépare une thèse en psychologie intitulée « Vite\, ça chauffe : faut-il réduire la distance psychologique au changement climatique pour favoriser les écogestes ? »\, sous la direction de Cécile Sénémeaud (PR\, LPCN) et de Christophe Démarque (MC\, ALLSH\, Aix Marseille Université).
URL:https://lpcn.unicaen.fr/evenement/16eme-colloque-jeunes-chercheurs-et-jeunes-chercheuses-adrips/
LOCATION:Toulouse · Université Toulouse Jean Jaurès · UFR de Psychologie\, Bâtiment Philippe Malrieu - UFR Psychologie\, 5 Allée Antonio Machado\, Toulouse\, 31100\, France
CATEGORIES:Communications
ATTACH;FMTTYPE=image/jpeg:https://lpcn.unicaen.fr/wp-content/uploads/sites/5/2023/06/CJC2023.jpg
ORGANIZER;CN="Colloque jeunes chercheur.euse.s (CJC)":MAILTO:cjc2025adrips@sciencesconf.org
END:VEVENT
END:VCALENDAR