BEGIN:VCALENDAR
VERSION:2.0
PRODID:-//LPCN · Laboratoire de Psychologie Caen Normandie - ECPv6.15.18//NONSGML v1.0//EN
CALSCALE:GREGORIAN
METHOD:PUBLISH
X-WR-CALNAME:LPCN · Laboratoire de Psychologie Caen Normandie
X-ORIGINAL-URL:https://lpcn.unicaen.fr
X-WR-CALDESC:Évènements pour LPCN · Laboratoire de Psychologie Caen Normandie
REFRESH-INTERVAL;VALUE=DURATION:PT1H
X-Robots-Tag:noindex
X-PUBLISHED-TTL:PT1H
BEGIN:VTIMEZONE
TZID:Europe/Paris
BEGIN:DAYLIGHT
TZOFFSETFROM:+0100
TZOFFSETTO:+0200
TZNAME:CEST
DTSTART:20220327T010000
END:DAYLIGHT
BEGIN:STANDARD
TZOFFSETFROM:+0200
TZOFFSETTO:+0100
TZNAME:CET
DTSTART:20221030T010000
END:STANDARD
BEGIN:DAYLIGHT
TZOFFSETFROM:+0100
TZOFFSETTO:+0200
TZNAME:CEST
DTSTART:20230326T010000
END:DAYLIGHT
BEGIN:STANDARD
TZOFFSETFROM:+0200
TZOFFSETTO:+0100
TZNAME:CET
DTSTART:20231029T010000
END:STANDARD
BEGIN:DAYLIGHT
TZOFFSETFROM:+0100
TZOFFSETTO:+0200
TZNAME:CEST
DTSTART:20240331T010000
END:DAYLIGHT
BEGIN:STANDARD
TZOFFSETFROM:+0200
TZOFFSETTO:+0100
TZNAME:CET
DTSTART:20241027T010000
END:STANDARD
END:VTIMEZONE
BEGIN:VEVENT
DTSTART;TZID=Europe/Paris:20230913T090000
DTEND;TZID=Europe/Paris:20230913T130000
DTSTAMP:20260419T192006
CREATED:20230905T143915Z
LAST-MODIFIED:20250602T090429Z
UID:48103-1694595600-1694610000@lpcn.unicaen.fr
SUMMARY:Soutenance de thèse de Simon Deniel : « Consommation de substances et cognition : l’approche neuropsychologique comme outil de compréhension pour soutenir l’accompagnement addictologique »
DESCRIPTION:Simon Deniel soutiendra sa thèse de doctorat en Psychologie\, réalisée sous la direction de Hélène Beaunieux (PR)\, co-encadrée par Ludivine Ritz (MC)\, le mercredi 13 septembre à 09h00. \n\n\n\nLe jury sera composé de : \n\n\n\nM. FABIEN GIERSKI\, Professeur des universités\, Université Reims Champagne Ardenne (Rapporteur)M. PIERRE MAURAGE\, Professeur\, Université Catholique de Louvain\, Belgique (Rapporteur)M. HERVÉ PLATEL\, Professeur des universités\, Université de Caen Normandie (Examinateur)MME. FLORENCE VORSPAN\, Professeur des universités praticien hospitalier\, Université Paris 7 Paris Diderot (Examinatrice)MME. LUDIVINE RITZ\,  Maître de conférences\, Université de Caen Normandie (Co-encadrante)MME. HÉLÈNE BEAUNIEUX\,  Professeur des universités\, Université de Caen Normandie (Directrice) \n\n\n\nTitre : \n\n\n\nConsommation de substances et cognition ; l’approche neuropsychologique comme outil de compréhension pour soutenir l’accompagnement addictologique \n\n\n\nRésumé : \n\n\n\nLe trouble de l’usage de substance (TUS) est répandu. À l’origine de troubles neuropsychologiques qui entravent le bénéfice des accompagnements en addictologie\, le TUS a souvent été étudié auprès de patients reçus en contexte hospitalier\, en l’absence de consommations de plusieurs substances qui sont pourtant fréquentes. Ce profil de consommation se retrouve à deux étapes de la prévention en addictologie : auprès d’étudiants qui pratiquent l’alcoolisation ponctuelle importante (API) et de résidents de communautés thérapeutiques (CT). Bien que l’existence de vulnérabilités cognitives ait été démontrée chez les usagers d’une substance de prédilection\, les effets de la polyconsommation et des facteurs associés sur la cognition ont peu fait l’objet d’études scientifiques. L’objectif de ce travail de thèse était d’étudier les effets de la polyconsommation sur le risque de troubles cognitifs\, en analysant les facteurs à risque de les aggraver. Les résultats indiquent que les fragilités cognitives étaient aggravées par l’usage conjoint de cannabis chez des étudiants qui pratiquent l’API. Concernant les résidents de CT\, le risque de troubles cognitifs est très élevé à leur entrée en CT et peut être aggravé par la présence d’antécédents hépatiques. Il existe une récupération motrice\, mais qui ne s’observe pas encore au niveau cognitif à 8 mois de séjour. Ainsi\, l’approche neuropsychologique présente un intérêt dans la considération des vulnérabilités cognitives afin d’ajuster l’accompagnement\, à chaque temporalité de la prévention en addictologie. \n\n\n\nMots-clés : \n\n\n\ntrouble de l’usage de substances\, polyconsommation\, neuropsychologie\, étudiants\, alcoolisation ponctuelle importante\, communautés thérapeutiques. \n\n\n\nInformations pratiques :\n\n\n\nL’accueil du public aura lieu à partir de 8h30 \n\n\n\nLieu : université de Caen | amphithéâtre Jean Vial\, bâtiment B\, Campus 1. \n\n\n\nLa soutenance sera également organisée en visio-conférence pour celles et ceux qui ne pourraient y assister\, le lien de visio-conférence sera envoyé sur simple demande à simon.deniel@unicaen.fr
URL:https://lpcn.unicaen.fr/evenement/soutenance-de-these-de-simon-deniel-consommation-de-substances-et-cognition-lapproche-neuropsychologique-comme-outil-de-comprehension-pour-soutenir-laccompagnement-ad/
LOCATION:Caen · Campus 1 · Bâtiment B · Amphi Jean Vial\, Bâtiment B\, Esplanade de la Paix\, Caen\, 14100\, France
CATEGORIES:Soutenance
ATTACH;FMTTYPE=image/jpeg:https://lpcn.unicaen.fr/wp-content/uploads/sites/5/2021/07/Simon_Deniel.jpg
END:VEVENT
END:VCALENDAR