BEGIN:VCALENDAR
VERSION:2.0
PRODID:-//LPCN · Laboratoire de Psychologie Caen Normandie - ECPv6.15.18//NONSGML v1.0//EN
CALSCALE:GREGORIAN
METHOD:PUBLISH
X-WR-CALNAME:LPCN · Laboratoire de Psychologie Caen Normandie
X-ORIGINAL-URL:https://lpcn.unicaen.fr
X-WR-CALDESC:Évènements pour LPCN · Laboratoire de Psychologie Caen Normandie
REFRESH-INTERVAL;VALUE=DURATION:PT1H
X-Robots-Tag:noindex
X-PUBLISHED-TTL:PT1H
BEGIN:VTIMEZONE
TZID:Europe/Paris
BEGIN:DAYLIGHT
TZOFFSETFROM:+0100
TZOFFSETTO:+0200
TZNAME:CEST
DTSTART:20230326T010000
END:DAYLIGHT
BEGIN:STANDARD
TZOFFSETFROM:+0200
TZOFFSETTO:+0100
TZNAME:CET
DTSTART:20231029T010000
END:STANDARD
BEGIN:DAYLIGHT
TZOFFSETFROM:+0100
TZOFFSETTO:+0200
TZNAME:CEST
DTSTART:20240331T010000
END:DAYLIGHT
BEGIN:STANDARD
TZOFFSETFROM:+0200
TZOFFSETTO:+0100
TZNAME:CET
DTSTART:20241027T010000
END:STANDARD
BEGIN:DAYLIGHT
TZOFFSETFROM:+0100
TZOFFSETTO:+0200
TZNAME:CEST
DTSTART:20250330T010000
END:DAYLIGHT
BEGIN:STANDARD
TZOFFSETFROM:+0200
TZOFFSETTO:+0100
TZNAME:CET
DTSTART:20251026T010000
END:STANDARD
END:VTIMEZONE
BEGIN:VEVENT
DTSTART;TZID=Europe/Paris:20240410T083000
DTEND;TZID=Europe/Paris:20240411T170000
DTSTAMP:20260421T191040
CREATED:20240409T160649Z
LAST-MODIFIED:20250602T090236Z
UID:48725-1712737800-1712854800@lpcn.unicaen.fr
SUMMARY:Colloque Évènements & passages à l’acte en période périnatale
DESCRIPTION:Les 10 et 11 avril 2024\, se tiendra un colloque intitulé Évènements & passages à l’acte en période périnatale. Astrid Hirschelmann (PR\, LPCN\, Unicaen) et Alexandre Ledrait (MC\, LPCN\, Unicaen) interviendront lors du colloque\, ils font également partie du comité scientifique et du comité de l’organisation de cet événement international. \n\n\n\nLa période périnatale est une traversée riche et complexe qui fait trace et impacte le champ émotionnel et mental de tous les parents et bébés. Ce colloque multi disciplinaire a pour but d’inviter des professionnels de terrain\, des cliniciens et des chercheurs de tous champs qui accompagnent ces situations au quotidien pour penser ensemble aux enjeux (tant sociaux que psychiques) dans les différents modes de passages à l’acte en période périnatale. \n\n\n\nAstrid Hirschelmann (PR\, LPCN) participera à la session « Bébés exposés aux événements et passages à l’acte » le Jeudi 11 avril 2024 à 10h40 et réalisera une intervention intitulée :« Les meurtres d’origine ». \n\n\n\nAlexandre Ledrait (MC\, LPCN) participera également à la session « Bébés exposés aux événements et passages à l’acte » et réalisera à 9h une intervention intitulée :« Profils psychotraumatiques du bébé maltraité ». \n\n\n\nLe colloque aura lieu en présentiel à l’Université Catholique de l’Ouest\, Bretagne Nord\, mais également en distanciel. \n\n\n\n\n\n\nInscription
URL:https://lpcn.unicaen.fr/evenement/colloque-evenements-passages-a-lacte-en-periode-perinatale/
LOCATION:Guingamp · Université Catholique de l’Ouest\, Université Catholique de l'Ouest Bretagne Nord\, Campus de la Tour d'Auvergne\, 37 Rue du Maréchal Foch\, Guingamp\, 22204\, France
CATEGORIES:Congrès - Colloque
ATTACH;FMTTYPE=image/jpeg:https://lpcn.unicaen.fr/wp-content/uploads/sites/5/2024/04/colloquealexastrid.jpg
ORGANIZER;CN="Universit%C3%A9 catholique de l%E2%80%99ouest (UCO)":MAILTO:ucobn@uco.fr
END:VEVENT
END:VCALENDAR