BEGIN:VCALENDAR
VERSION:2.0
PRODID:-//LPCN · Laboratoire de Psychologie Caen Normandie - ECPv6.15.18//NONSGML v1.0//EN
CALSCALE:GREGORIAN
METHOD:PUBLISH
X-WR-CALNAME:LPCN · Laboratoire de Psychologie Caen Normandie
X-ORIGINAL-URL:https://lpcn.unicaen.fr
X-WR-CALDESC:Évènements pour LPCN · Laboratoire de Psychologie Caen Normandie
REFRESH-INTERVAL;VALUE=DURATION:PT1H
X-Robots-Tag:noindex
X-PUBLISHED-TTL:PT1H
BEGIN:VTIMEZONE
TZID:Europe/Paris
BEGIN:DAYLIGHT
TZOFFSETFROM:+0100
TZOFFSETTO:+0200
TZNAME:CEST
DTSTART:20220327T010000
END:DAYLIGHT
BEGIN:STANDARD
TZOFFSETFROM:+0200
TZOFFSETTO:+0100
TZNAME:CET
DTSTART:20221030T010000
END:STANDARD
BEGIN:DAYLIGHT
TZOFFSETFROM:+0100
TZOFFSETTO:+0200
TZNAME:CEST
DTSTART:20230326T010000
END:DAYLIGHT
BEGIN:STANDARD
TZOFFSETFROM:+0200
TZOFFSETTO:+0100
TZNAME:CET
DTSTART:20231029T010000
END:STANDARD
BEGIN:DAYLIGHT
TZOFFSETFROM:+0100
TZOFFSETTO:+0200
TZNAME:CEST
DTSTART:20240331T010000
END:DAYLIGHT
BEGIN:STANDARD
TZOFFSETFROM:+0200
TZOFFSETTO:+0100
TZNAME:CET
DTSTART:20241027T010000
END:STANDARD
END:VTIMEZONE
BEGIN:VEVENT
DTSTART;TZID=Europe/Paris:20230322T133000
DTEND;TZID=Europe/Paris:20230322T173000
DTSTAMP:20260422T174712
CREATED:20230320T085724Z
LAST-MODIFIED:20250221T100804Z
UID:33317-1679491800-1679506200@lpcn.unicaen.fr
SUMMARY:Seminaire du pôle Formation Education Travail Emploi (FETE) Territoires apprenants
DESCRIPTION:L’objectif du pôle Formation Education Travail Emploi (FETE) est de fédérer les forces existantes à l’Université de Caen Normandie dans les domaines de la recherche en formation\, éducation\, travail et emploi ; de promouvoir l’activité d’expertise\, et de diffusion des savoirs dans ces domaines\, dans une perspective de pluridisciplinarité et transversalité. \nLe séminaire du pôle FETE de la MRSH sur les territoires apprenants se déroulera le 22 mars prochain à la MRSH\, dans la salle SH126. \nAu programme de ce cet événement : la présentation de recherches conduites dans le cadre des laboratoires du pôle (CIRNEF / ESO / LPCN) et les témoignages de professionnels partenaires des laboratoires. Cela sera l’occasion de débattre sur les enjeux de complémenrarité éducative sur les territoires et d’aborder la diffusion des pratiques. \n\n \nUn membre associé du LPCN sera présent. \nPauline Allix\, docteure en psychologie cognitive\, spécialisée en psychologie de l’enfant et de l’adolescent\, présentera son travail de thèse\, soutenue en 2021 au Laboratoire de Psychologie Caen Normandie sous la direction de Sandrine Rossi (PR\, LPCN). \nElle réalisera à 16h30 une présentation orale intitulée : \n Cogni’Scol : impact d’un programme pédagogique métacognitif sur la réussite scolaire des élèves dans un territoire éducatif \n  \n\nLiens utiles : Informations Pole Fete \nInscription \nPage de présentation de la thèse de Pauline Allix
URL:https://lpcn.unicaen.fr/evenement/seminaire-du-pole-formation-education-travail-emploi-fete-territoires-apprenants/
LOCATION:Caen · Campus 1 · Maison de la recherche en sciences humaines (MRSH) · Salle SH-027\, Campus 1\, Maison de la recherche en sciences humaines (MRSH)\, 1 Esplanade de la Paix\, Caen\, 14000\, France
CATEGORIES:Communications
ATTACH;FMTTYPE=image/jpeg:https://lpcn.unicaen.fr/wp-content/uploads/sites/5/2023/03/boy-5731001_1280.jpg
END:VEVENT
END:VCALENDAR