BEGIN:VCALENDAR
VERSION:2.0
PRODID:-//LPCN · Laboratoire de Psychologie Caen Normandie - ECPv6.15.18//NONSGML v1.0//EN
CALSCALE:GREGORIAN
METHOD:PUBLISH
X-WR-CALNAME:LPCN · Laboratoire de Psychologie Caen Normandie
X-ORIGINAL-URL:https://lpcn.unicaen.fr
X-WR-CALDESC:Évènements pour LPCN · Laboratoire de Psychologie Caen Normandie
REFRESH-INTERVAL;VALUE=DURATION:PT1H
X-Robots-Tag:noindex
X-PUBLISHED-TTL:PT1H
BEGIN:VTIMEZONE
TZID:Europe/Paris
BEGIN:DAYLIGHT
TZOFFSETFROM:+0100
TZOFFSETTO:+0200
TZNAME:CEST
DTSTART:20240331T010000
END:DAYLIGHT
BEGIN:STANDARD
TZOFFSETFROM:+0200
TZOFFSETTO:+0100
TZNAME:CET
DTSTART:20241027T010000
END:STANDARD
BEGIN:DAYLIGHT
TZOFFSETFROM:+0100
TZOFFSETTO:+0200
TZNAME:CEST
DTSTART:20250330T010000
END:DAYLIGHT
BEGIN:STANDARD
TZOFFSETFROM:+0200
TZOFFSETTO:+0100
TZNAME:CET
DTSTART:20251026T010000
END:STANDARD
BEGIN:DAYLIGHT
TZOFFSETFROM:+0100
TZOFFSETTO:+0200
TZNAME:CEST
DTSTART:20260329T010000
END:DAYLIGHT
BEGIN:STANDARD
TZOFFSETFROM:+0200
TZOFFSETTO:+0100
TZNAME:CET
DTSTART:20261025T010000
END:STANDARD
END:VTIMEZONE
BEGIN:VEVENT
DTSTART;TZID=Europe/Paris:20250522T080000
DTEND;TZID=Europe/Paris:20250523T170000
DTSTAMP:20260423T210054
CREATED:20250519T093344Z
LAST-MODIFIED:20250519T093453Z
UID:49600-1747900800-1748019600@lpcn.unicaen.fr
SUMMARY:Le Printemps de la Recherche en éducation 2025
DESCRIPTION:Organisé par le Réseau des INSPÉ\, en partenariat avec le Cnesco et le Réseau Thématique Éducation du CNRS\, le Printemps de la Recherche en éducation propose une plongée au cœur des recherches collaboratives et partenariales en éducation. En plus d’un cycle de webconférences proposé en mars 2025\, des journées en présentiel sont proposées en mai afin de rencontrer les acteurs impliqués dans les recherches collaboratives\, échanger avec les intervenants et découvrir les travaux de jeunes chercheurs candidats au Prix Poster Doctorant – Jacques Ginestié. Ces journées organisées en présentiel se dérouleront les 22 et 23 mai à Paris. \n\n\n\nOdran Guilbert (doctorant\, LPCN) participe à ces journées et est candidat au prix Poster Doctorant pour son projet :  \n\n\n\nCo-construction\, implémentation\, et évaluation d’un programme métacognitif inclusif auprès d’élèves de CP\n\n\n\n\nRésumé\nJ’ai suivi mon cursus universitaire en psychologie à l’Université de Toulouse 2 Jean Jaurès\, mais aussi une année à l’Université du Québec À Montréal (UQÀM) et enfin à l’Université Paul Valéry Montpellier 3 où j’ai décroché mon master et obtenu l’année suivante mon titre de psychologue. J’ai rejoint l’équipe SCOPE (Sciences Cognitives Pour l’Enseignement) du Laboratoire de Psychologie de Caen Normandie (LPCN)\, dans le cadre de ma thèse\, en novembre 2023.Ma thèse co-financée par le Pôle Pilote 100% Inclusion\, un Défi\, un Territoire vise la co-construction\, la mise en place et l’évaluation d’une ressource pédagogique métacognitive et inclusive afin de favoriser l’apprentissage chez des élèves de CP scolarisés en milieu dit « ordinaire ». Le travail collaboratif\, entre acteurs·rices de la recherche et acteurs·rices du milieu éducatif\, au centre de ce projet a été l’une de mes premières motivations à m’engager sur cette thèse. En outre\, l’apprentissage a toujours été une thématique scientifique et un enjeu crucial vers lequel je souhaitais me diriger. Enfin\, l’inclusion scolaire m’apparaît être tout à la fois un véritable enjeu et un véritable défi tant scientifique que sociétal. \n\n\n\n\n\n\nProgramme\n\n\n\nInscription\n\n\n\n\n\nOdran Guilbert prépare une thèse en psychologie intitulée « Un PROgramme Métacognitif pour l’Inclusion Scolaire »\, sous la direction de de Sandrine Rossi (PR\, LPCN\, Université de Caen Normandie) et co-encadrée par Céline Lanoë (MC\, LPCN\, Université de Caen Normandie).
URL:https://lpcn.unicaen.fr/evenement/le-printemps-de-la-recherche-en-education-2025/
LOCATION:Paris · Lycée Jean Zay\, Lycée d'État Jean Zay\, 10 Rue du Dr Blanche\, Paris\, 75016\, France
CATEGORIES:Communications
ATTACH;FMTTYPE=image/jpeg:https://lpcn.unicaen.fr/wp-content/uploads/sites/5/2025/05/printempsrechercheeduc.jpg
ORGANIZER;CN="R%C3%A9seau des INSP%C3%89":MAILTO:secretariat@reseau-inspe.fr
END:VEVENT
END:VCALENDAR