BEGIN:VCALENDAR
VERSION:2.0
PRODID:-//LPCN · Laboratoire de Psychologie Caen Normandie - ECPv6.15.18//NONSGML v1.0//EN
CALSCALE:GREGORIAN
METHOD:PUBLISH
X-ORIGINAL-URL:https://lpcn.unicaen.fr
X-WR-CALDESC:Évènements pour LPCN · Laboratoire de Psychologie Caen Normandie
REFRESH-INTERVAL;VALUE=DURATION:PT1H
X-Robots-Tag:noindex
X-PUBLISHED-TTL:PT1H
BEGIN:VTIMEZONE
TZID:Europe/Paris
BEGIN:DAYLIGHT
TZOFFSETFROM:+0100
TZOFFSETTO:+0200
TZNAME:CEST
DTSTART:20210328T010000
END:DAYLIGHT
BEGIN:STANDARD
TZOFFSETFROM:+0200
TZOFFSETTO:+0100
TZNAME:CET
DTSTART:20211031T010000
END:STANDARD
BEGIN:DAYLIGHT
TZOFFSETFROM:+0100
TZOFFSETTO:+0200
TZNAME:CEST
DTSTART:20220327T010000
END:DAYLIGHT
BEGIN:STANDARD
TZOFFSETFROM:+0200
TZOFFSETTO:+0100
TZNAME:CET
DTSTART:20221030T010000
END:STANDARD
BEGIN:DAYLIGHT
TZOFFSETFROM:+0100
TZOFFSETTO:+0200
TZNAME:CEST
DTSTART:20230326T010000
END:DAYLIGHT
BEGIN:STANDARD
TZOFFSETFROM:+0200
TZOFFSETTO:+0100
TZNAME:CET
DTSTART:20231029T010000
END:STANDARD
END:VTIMEZONE
BEGIN:VEVENT
DTSTART;VALUE=DATE:20221123
DTEND;VALUE=DATE:20221126
DTSTAMP:20260421T231539
CREATED:20221108T163554Z
LAST-MODIFIED:20250221T100640Z
UID:32715-1669161600-1669420799@lpcn.unicaen.fr
SUMMARY:Lisbon Addictions édition 2022
DESCRIPTION:Du 23 au 25 novembre 2022 aura lieu le congrès européen sur les comportements addictifs et dépendances « Lisbon Addictions ». \nCe congrès international accueille des acteurs et actrices scientifiques qui s’investissent dans la recherche en addictologie tant dans la caractérisation\, la compréhension et la prise en charge des comportements addictifs. Pour cette édition 2022\, le rendez-vous est donné au Centre des Congrès de Lisbonne au Portugal. \n\nTrois membres du LPCN seront présents : Hélène Beaunieux (PR\, LPCN)\, Marion Delarue (neuropsychologue\, ingénieure d’étude\, LPCN) et Simon Deniel (neuropsychologue\, doctorant\, LPCN). \nUne communication orale sera proposée par Simon Deniel qui exposera les résultats des données issues du projet NeuroAddiCT du programme ADDICTIONS. \n\n  \nLa communication\, intitulée « Neuropsychology of Addictions in Therapeutic Communities: assessing and understanding cognitive recovery through a residential treatment of substance use disorders »\, aura lieu au cours d’un symposium le 24 novembre.  \nLien vers l’abstract : Neuropsychology of Addictions in Therapeutic Communities: assessing and understanding cognitive recovery through a residential treatment of substance use disorders | Lisbon Addictions 2022 \nCette communication\, à l’interface entre questionnements scientifiques et mise en relief à l’épreuve des pratiques cliniques en addictologie\, est à l’image du projet NeuroAddiCT mené par le LPCN en partenariat avec les Communautés Thérapeutiques et la Fédération Addiction. \n  \n\nProgramme et informations symposium : Neurology and neuropsychology | Lisbon Addictions 2022 \nLien vers le site NeuroAddiCT : NeuroAddict · Université de Caen Normandie
URL:https://lpcn.unicaen.fr/evenement/lisbon-addictions-edition-2022/
LOCATION:Lisbonne · Centre des congrès\, Centre des congrès de Lisbonne\, Praça das Indústrias 1\, Lisboa\, 1300-307\, Portugal
CATEGORIES:Communications
ATTACH;FMTTYPE=image/jpeg:https://lpcn.unicaen.fr/wp-content/uploads/sites/5/2022/11/lisbonadd.jpg
END:VEVENT
BEGIN:VEVENT
DTSTART;TZID=Europe/Paris:20221124T000000
DTEND;TZID=Europe/Paris:20221125T235959
DTSTAMP:20260421T231539
CREATED:20221116T121803Z
LAST-MODIFIED:20250221T100430Z
UID:32790-1669248000-1669420799@lpcn.unicaen.fr
SUMMARY:Congrès de la Société Francophone de Tabacologie 2022
DESCRIPTION:Le 16e Congrès de la Société Francophone de Tabacologie se tiendra à Dijon les 24 et 25 Novembre 2022. \nCet événement rassemble les experts et soignants francophones en tabacologie pour exposer et débattre sur le tabagisme. \nCette année\, le congrès a pour fil conducteur « la tabacologie en première ligne » avec un programme particulièrement riche en sessions : sessions communes avec la Société de Pneumologie de Langue Française et la Société Française de Cardiologie et sessions infirmières grâce à l’AFITEA et sages-femmes.Parmi les présentations\, deux sujets consacrés au cancer seront développés avec « Tabac et cancer » et « L’offre de prise en charge du tabagisme 20 ans après le plan cancer »\, compte tenu du rôle majeur de la consommation de tabac dans la survenue du cancer. \nComme chaque année les sociétés savantes partenaires seront présentes soulignant la transversalité de la tabacologie dont un des objectifs est d’établir de nouvelles recommandations. \n  \n\nLe LPCN sera représenté lors de cet événement. \n  \n \nMaxime Mauduy est post-doctorant au LPCN. Il a soutenu sa thèse de doctorat en psychologie le 4 février 2022\, intitulée « Rôle des normes sociales dans la production et compréhension de l’effet d’hypocrisie induite. Application à la prévention des discriminations ». \nIl proposera un poster intitulé : \nMotivations à fumer chez les étudiants : Validation française du Brief Wisconsin Inventory of Smoking Dependence Motives\nMaxime Mauduy (post-doc\, LPCN)\, Nicolas Mauny (post-doc\, LPCN)\, Charlotte Montcharmont (IGE\, LPCN)\, Ludivine Ritz (MC\, LPCN)\, Hélène Beaunieux (PR\, LPCN)\, & Jessica Mange (Mc-HDR\, LPCN) \nAbstract: \nUne première étape dans la prévention du tabagisme réside dans l’identification des raisons qui motivent à fumer. A ce titre\, la Brief Wisconsin Inventory of Smoking Dependence Motives (B-WISDM) est une échelle validée de 37 items évaluant 11 motivations à fumer (Pancani et al.\, 2015)\, dont 4 motivations principales à la dépendance (MPD)\, i.e.\, automaticité\, craving\, perte de contrôle et tolérance et 7 motivations secondaires (MSD)\, i.e.\, attachement affectif\, amélioration affective\, amélioration cognitive\, exposition à des stimulus\, incitations sociales\, goût\, et perte de poids. Si son utilisation est préférée à d’autres (Berlin et al.\, 2003)\, aucune version française n’existe encore. \nL’objectif est donc de la valider en français auprès d’étudiants à l’université (N = 658). La dimensionalité a été testée via des analyses factorielles confirmatoires robustes. Le modèle a 11 dimensions de premier ordre inter-corrélées présente le meilleur ajustement (CFI =.926\, RMSEA =.055). L’invariance scalaire selon le genre est retenue\, signifiant que les hommes et les femmes ont une même compréhension de ces 11 dimensions. Les fiabilités internes sont satisfaisantes et les validités de contenu et prédictive sont confirmées via une analyse de régressions multivariées (e.g.\, la dépendance est davantage expliquée par les MPD\, les troubles alimentaires par la dimension perte de poids\, la perception des normes sociales par la dimension incitations sociales). \nLa validité discriminante est soutenue par l’identification de 7 profils motivationnels latent qui diffèrent en termes de dépendance et de facteurs associés au tabac. Ainsi\, la FB-WISDM présente de très bonnes qualités psychométriques et peut être précieuse dans l’accompagnement des fumeurs vers l’arrêt.\n \n  \n 
URL:https://lpcn.unicaen.fr/evenement/congres-de-la-societe-francophone-de-tabacologie-2022/
LOCATION:Dijon · Palais des Congrès\, Dijon Bourgogne Events - Parc des Expositions et Congrès de Dijon\, 3 Boulevard de Champagne\, Dijon\, 21000\, France
CATEGORIES:Communications
ATTACH;FMTTYPE=image/jpeg:https://lpcn.unicaen.fr/wp-content/uploads/sites/5/2022/11/CSFT_2022.jpg
END:VEVENT
BEGIN:VEVENT
DTSTART;VALUE=DATE:20221124
DTEND;VALUE=DATE:20221126
DTSTAMP:20260421T231539
CREATED:20221121T103940Z
LAST-MODIFIED:20250221T100453Z
UID:32823-1669248000-1669420799@lpcn.unicaen.fr
SUMMARY:Le LPCN passe à la radio
DESCRIPTION:Dans le cadre des rencontres SMS – Sciences Médias Société\, organisées par Radio Campus France et soutenues par le ministère de la Culture et l’Université de Caen Normandie. Radio Phenix propose deux journées spéciales\, afin de se questionner sur les sciences\, les publics et l’éducation aux médias et à l’information. \nLe 24 & 25 novembre 2022\, des chercheurs et des intervenants issues de différentes disciplines seront invités à prendre la parole et à échanger sur ces thèmes. \nDes ren­contres se tien­dront au Dôme\, aux Ate­liers Inter­mé­diaires et au Cam­pus 2 de l’u­ni­ver­si­té de Caen\, des tables rondes\, des ateliers et des workshop seront organisés. \n\nDeux membres du LPCN participent à ces journées : Marie Anquetil (doctorante\, LPCN) et Manon Théraud (IGE\, LPCN). \nManon Théraud interviendra le 24 novembre de 14h à 16h\, sur le Campus 2\, lors d’une table ronde :\n« Temps Radios Cam­pus #1 – Les acteur.rice.s de l’Éducation aux Médias et à l’In­for­ma­tion et leurs publics » \n  \nMarie Anquetil sera présente le 25 novembre de 10h à 11h30\, au Dôme\, lors d’une seconde table ronde :\n« Culture scien­ti­fique et nou­veaux médias : S’engager dans l’a­ni­ma­tion de conte­nus sur les pla­te­formes et réseaux sociaux »\nLors de cet événement\, Marie interviendra en tant que représentantes des doctorants de la région Normandie\, rôle qu’elle assume au sein de l’association Normandie’Doc. \n  \nUne partie des évènements seront retransmis en direct sur radio phoenix. \n\n \n  \nMarie Anquetil est doctorante au LPCN\, elle prépare une thèse en Psychologie sur la thématique du dépistage précoce des troubles neurodéveloppementaux\, sous la direction de Sandrine Rossi (PR\, LPCN) et de Nadège Roche-Labarbe (MC HDR\, COMETE | U 1075). Elle est membre du bureau de l’association Normandie Doc’ (Association de doctorants et de docteurs de la région Normandie). \n  \nManon Théraud est ingénieure d’étude au LPCN et participe activement au projet de recherche « Évaluation de formations à l’Education aux Médias et à l’Information et à l’Esprit Critique » (EFEMIEC) coordonné par Virginie Bagneux (MC\, LPCN). \n  \n\nProgramme complet et inscription
URL:https://lpcn.unicaen.fr/evenement/le-lpcn-passe-a-la-radio/
LOCATION:Caen · Campus 2\, Campus 2\, Avenue de la Côte de Nacre\, Caen\, 14000\, France
CATEGORIES:Communications
ATTACH;FMTTYPE=image/jpeg:https://lpcn.unicaen.fr/wp-content/uploads/sites/5/2022/11/SMS_radio.jpg
END:VEVENT
BEGIN:VEVENT
DTSTART;TZID=Europe/Paris:20221125T100000
DTEND;TZID=Europe/Paris:20221125T120000
DTSTAMP:20260421T231539
CREATED:20221123T132451Z
LAST-MODIFIED:20221202T165116Z
UID:32844-1669370400-1669377600@lpcn.unicaen.fr
SUMMARY:Séminaire du LPCN 2022 : Numérique et soutien de proximité
DESCRIPTION:Le séminaire de novembre du LPCN sera animé par Steve Geoffrion\, professeur à l’Université de Montréal et au Trauma Studies Center. \nIl étudie les troubles liés aux événements traumatisants en milieu professionnel\, afin d’améliorer leur prévention et l’accompagnement offert aux victimes. Il est également impliqué dans la recherche sur les interventions innovantes en matière de prévention de la violence. \nSes thèmes de recherche actuels comprennent : l’identification des caractéristiques biopsychosociales prédisant les comportements violents chez les patients psychiatriques\, l’étude des facteurs liés aux pratiques coercitives en milieu de soins et l’évaluation de l’efficacité des interventions post-traumatiques pour les travailleurs touchés par la violence au travail. \nLors de ce séminaire\, il nous présentera son parcours et développera plusieurs thématiques issues de ses recherches. \nPour en savoir plus \nLe séminaire aura lieu le vendredi 25 novembre 2022\, de 10h à 12h30\, dans la salle SH027 de la Maison de la Recherche en Sciences Humaines de Caen (MRSH)\, située sur le Campus 1 de l’Université de Caen Normandie. \nIl est ouvert au personnel et aux étudiants de l’université de Caen\, ainsi qu’au public.\n 
URL:https://lpcn.unicaen.fr/evenement/seminaire-du-lpcn-2022-numerique-et-soutien-de-proximite/
LOCATION:Caen · Campus 1 · Maison de la recherche en sciences humaines (MRSH) · Salle des Actes\, Campus 1\, Maison de la recherche en sciences humaines (MRSH)\, 1 Esplanade de la Paix\, Caen\, 14000\, France
CATEGORIES:Séminaire
ATTACH;FMTTYPE=image/jpeg:https://lpcn.unicaen.fr/wp-content/uploads/sites/5/2022/11/despaired-2261021_1280.jpg
END:VEVENT
BEGIN:VEVENT
DTSTART;VALUE=DATE:20221130
DTEND;VALUE=DATE:20221204
DTSTAMP:20260421T231539
CREATED:20221128T154722Z
LAST-MODIFIED:20221128T155112Z
UID:32859-1669766400-1670111999@lpcn.unicaen.fr
SUMMARY:Congrès Français de Psychiatrie 2022
DESCRIPTION:Le 14e Congrès Français de Psychiatrie aura lieu en virtuel et en présentiel au Grand Palais de Lille du 30 novembre au 3 décembre 2022. \nAu programme de cette édition sur la thématique « Transmettre »\, plus de 300 orateurs et 4 jours de sessions : \n\n6 conférences\n17 Rencontres avec l’Expert\n11 Débats\n29 Sessions Thématiques\n22 Sessions du Forum des Associations\n5e Journée Sciences Infirmières et Recherche Paramédicale\n5e Journée de l’ACCompagnement et de l’Action médico-sociale\n7e Journées de la Psychiatrie de la Personne Âgée\n\nTransmettre est l’objectif du CFP qui permet entre pairs\, entre seniors et juniors\, de partager des savoirs\, des connaissances\, mais aussi de réfléchir aux stratégies qui permettent de maintenir la passion pour la psychiatrie\, cette discipline en pleine mutation et dont la prise de conscience est en plein essor. \nUn grand nombre des interventions seront diffusées en direct sur le e-CFP puis disponibles à la demande jusqu’au 28 mars 2023. \n\n  \n \nLe LPCN sera représenté lors de cet événement. \nMaud Lemercier-Dugarin (MC\, LPCN) participera à la session Thématique \n » Addictions aux jeux vidéo et à Internet : actualités « \nAlain Dervaux (PR\, PSYCOMADD\, Université Paris-Saclay) et Pierre Taquet (docteur en psychologie\, PSITEC\, Université de Lille) interviendront également lors de cette session. \n  \nRésumé : \n\nLes usages problématiques des écrans\, appelés par certains auteurs addiction aux écrans\, notamment aux jeux vidéo\, à Internet et aux réseaux sociaux\, sont des pathologies émergentes et mal connues. Peu de données quantitatives sur les pratiques de jeux vidéo et sur les usages problématiques d’Internet sont disponibles en France\, mais elles pourraient concerner environ 3% de la population générale\, d’après une méta-analyse de 61 études provenant de 29 pays (1). Dans un sondage IPSOS en 2021\, 13% d’un échantillon de plus de 2000 adultes français jugeaient jouer en ligne de manière excessive. Les critères du trouble lié aux jeux vidéo « Gaming disorder » a été introduit dans la CIM-11 et les critères d’« Internet Gaming Disorder » ont été proposés dans le chapitre des diagnostics provisoires du DSM-5. Ces dernières années\, les études sur le sujet sont publiées de manière exponentielle\, par exemple 777 sur PubMed en 2021 pour « gaming disorder » contre 39 en 2002. Un rapport du Haut conseil de la santé publique (HCSP) intitulé « Effets de l’exposition des enfants et des jeunes aux écrans : de l’usage excessif à la dépendance » a effectué une analyse de la littérature jusqu’en 2019 des effets nocifs de l’usage problématique des écrans sur la santé\, en particulier chez les jeunes. Depuis\, de nombreuses études ont été publiées sur les effets nocifs induits par les écrans. L’objectif de ce symposium est de faire le point sur les actualités concernant le diagnostic\, les facteurs de risque\, les complications\, les outils de dépistage et la prise en charge\, notamment psychothérapeutique des addictions aux jeux vidéo et des usages problématiques d’Internet. Les trois intervenants ont réalisé une revue systématique et critique de la littérature sur PubMed en utilisant la méthodologie PRISMA sur les addictions aux jeux vidéo et à Internet. Des recommandations pratiques seront issues de ces revues.\n\n\n  \nDans la 1ère communication\, Alain Dervaux passera en revue les facteurs de risques et conséquences nocives pour la santé de l’usage excessifs des écrans\, en particulier celles induites par les troubles liés aux jeux vidéo (2).\nDans la 2ème communication\, Maud Lemercier-Dugarin fera une revue critique des outils de dépistage\, notamment des échelles d’évaluation des troubles liés aux jeux vidéo.\nDans la 3ème communication\, Pierre Taquet présentera les thérapies basées sur les preuves les plus recommandées pour les sujets présentant des troubles liés aux jeux vidéo (3\, 4).\n\nMots clés :\nTroubles liés aux jeux vidéo\, Addictions à Internet\, Thérapies cognitivo-comportementales\n\nRéférences :\n\nKim HS\, Son G\, Roh EB\, Ahn WY\, Kim J\, Shin SH\, Chey J\, Choi KH. Prevalence of gaming disorder: A meta-analysis. Addict Behav. 2022;126:107183.\nSebeyran A\, Hassler C\, Choquet M\, Vacheron MN\, Laqueille X\, Falissard B\, Dervaux A. Anxiety and depression in non-treatment-seeking subjects with Internet addiction. Eur Neuropsychopharmacol. 2011; 21 (Suppl. 3): S596.\nTaquet P\, Rolland B\, Bence C\, Liénard S\, Cottencin O. Identification of gaming and gambling behavior in addiction treatment centers by the regional network on gaming and gambling addiction in Northern France]. Presse Med. 2016;45(5):555-8.\nTaquet P\, Romo L\, Cottencin O\, Ortiz D\, Hautekeete M. Video Game Addiction: Cognitive\, emotional\, and behavioral determinants for CBT treatment. Journal de Thérapie Comportementale et Cognitive 2017; 27 (3): 118-28.\n\n  \n\nProgramme et informations sur le congrès
URL:https://lpcn.unicaen.fr/evenement/congres-francais-de-psychiatrie-2022/
LOCATION:Lille · Lille Grand Palais\, Lille Grand Palais\, 1 Boulevard des Cités Unies\, Lille\, 59777\, France
CATEGORIES:Communications
ATTACH;FMTTYPE=image/jpeg:https://lpcn.unicaen.fr/wp-content/uploads/sites/5/2022/11/CFP2022.jpg
END:VEVENT
END:VCALENDAR