BEGIN:VCALENDAR
VERSION:2.0
PRODID:-//LPCN · Laboratoire de Psychologie Caen Normandie - ECPv6.15.18//NONSGML v1.0//EN
CALSCALE:GREGORIAN
METHOD:PUBLISH
X-WR-CALNAME:LPCN · Laboratoire de Psychologie Caen Normandie
X-ORIGINAL-URL:https://lpcn.unicaen.fr
X-WR-CALDESC:Évènements pour LPCN · Laboratoire de Psychologie Caen Normandie
REFRESH-INTERVAL;VALUE=DURATION:PT1H
X-Robots-Tag:noindex
X-PUBLISHED-TTL:PT1H
BEGIN:VTIMEZONE
TZID:Europe/Paris
BEGIN:DAYLIGHT
TZOFFSETFROM:+0100
TZOFFSETTO:+0200
TZNAME:CEST
DTSTART:20220327T010000
END:DAYLIGHT
BEGIN:STANDARD
TZOFFSETFROM:+0200
TZOFFSETTO:+0100
TZNAME:CET
DTSTART:20221030T010000
END:STANDARD
BEGIN:DAYLIGHT
TZOFFSETFROM:+0100
TZOFFSETTO:+0200
TZNAME:CEST
DTSTART:20230326T010000
END:DAYLIGHT
BEGIN:STANDARD
TZOFFSETFROM:+0200
TZOFFSETTO:+0100
TZNAME:CET
DTSTART:20231029T010000
END:STANDARD
BEGIN:DAYLIGHT
TZOFFSETFROM:+0100
TZOFFSETTO:+0200
TZNAME:CEST
DTSTART:20240331T010000
END:DAYLIGHT
BEGIN:STANDARD
TZOFFSETFROM:+0200
TZOFFSETTO:+0100
TZNAME:CET
DTSTART:20241027T010000
END:STANDARD
END:VTIMEZONE
BEGIN:VEVENT
DTSTART;TZID=Europe/Paris:20230120T100000
DTEND;TZID=Europe/Paris:20230120T120000
DTSTAMP:20260423T084246
CREATED:20221216T135432Z
LAST-MODIFIED:20230116T105207Z
UID:32968-1674208800-1674216000@lpcn.unicaen.fr
SUMMARY:Séminaire du LPCN 2023 : Coparentalité et dynamique relationnelle lors de la transition à la parentalité
DESCRIPTION:Le séminaire de janvier du LPCN sera animé par Nicolas Favez\, professeur de psychologie clinique à l’Université de Genève (FAPSE) et co-responsable de l’unité de recherche du Centre d’études familiales de l’Institut de psychothérapie de Lausanne. \n  \nRésumé :\nLa coparentalité se réfère au soutien émotionnel et instrumental que les parents s’apportent dans leurs tâches familiales. Pour les parents\, elle représente un nouveau domaine relationnel\, qui s’ajoute à la relation conjugale lors de la transition à la parentalité\, ce qui provoque de nombreux réaménagements dans la relation de couple. \nDans cette présentation nous verrons comment s’établit la relation coparentale et quelles peuvent être les raisons de tensions éventuelles\, avec leurs conséquences négatives sur les enfants et les parents. \nNous verrons également comment évaluer la dynamique relationnelle en jeu afin de déterminer des objectifs d’intervention thérapeutique. \n  \n \nLes activités d’enseignement et de recherche de Nicolas portent sur la transition à la parentalité\, l’évaluation familiale (avec un accent particulier sur les méthodes d’observation)\, le développement social et cognitif de l’enfant et le travail thérapeutique auprès du couple et des familles. \n  \nPour en savoir plus\, son compte Research Gate : https://www.researchgate.net/profile/Nicolas-Favez-2  \n  \nLe séminaire aura lieu le vendredi 20 janvier 2023\, de 10h à 12h\, en ligne. \nUn lien zoom sera envoyé sur simple demande à lpcn@unicaen.fr \nIl est ouvert au personnel et aux étudiants de l’université de Caen\, ainsi qu’au public.\n 
URL:https://lpcn.unicaen.fr/evenement/seminaire-du-lpcn-2022-coparentalite-et-dynamique-relationnelle-lors-de-la-transition-a-la-parentalite/
LOCATION:En distanciel
CATEGORIES:Séminaire
ATTACH;FMTTYPE=image/jpeg:https://lpcn.unicaen.fr/wp-content/uploads/sites/5/2022/12/snowman-6981771_1280.jpg
END:VEVENT
END:VCALENDAR