BEGIN:VCALENDAR
VERSION:2.0
PRODID:-//LPCN · Laboratoire de Psychologie Caen Normandie - ECPv6.15.18//NONSGML v1.0//EN
CALSCALE:GREGORIAN
METHOD:PUBLISH
X-WR-CALNAME:LPCN · Laboratoire de Psychologie Caen Normandie
X-ORIGINAL-URL:https://lpcn.unicaen.fr
X-WR-CALDESC:Évènements pour LPCN · Laboratoire de Psychologie Caen Normandie
REFRESH-INTERVAL;VALUE=DURATION:PT1H
X-Robots-Tag:noindex
X-PUBLISHED-TTL:PT1H
BEGIN:VTIMEZONE
TZID:Europe/Paris
BEGIN:DAYLIGHT
TZOFFSETFROM:+0100
TZOFFSETTO:+0200
TZNAME:CEST
DTSTART:20230326T010000
END:DAYLIGHT
BEGIN:STANDARD
TZOFFSETFROM:+0200
TZOFFSETTO:+0100
TZNAME:CET
DTSTART:20231029T010000
END:STANDARD
BEGIN:DAYLIGHT
TZOFFSETFROM:+0100
TZOFFSETTO:+0200
TZNAME:CEST
DTSTART:20240331T010000
END:DAYLIGHT
BEGIN:STANDARD
TZOFFSETFROM:+0200
TZOFFSETTO:+0100
TZNAME:CET
DTSTART:20241027T010000
END:STANDARD
BEGIN:DAYLIGHT
TZOFFSETFROM:+0100
TZOFFSETTO:+0200
TZNAME:CEST
DTSTART:20250330T010000
END:DAYLIGHT
BEGIN:STANDARD
TZOFFSETFROM:+0200
TZOFFSETTO:+0100
TZNAME:CET
DTSTART:20251026T010000
END:STANDARD
END:VTIMEZONE
BEGIN:VEVENT
DTSTART;TZID=Europe/Paris:20240312T170000
DTEND;TZID=Europe/Paris:20240312T193000
DTSTAMP:20260420T094803
CREATED:20240310T154447Z
LAST-MODIFIED:20250221T101321Z
UID:48598-1710262800-1710271800@lpcn.unicaen.fr
SUMMARY:Webinaire : Accompagner au mieux les patients dialysés et leurs proches
DESCRIPTION:La Société Francophone de Néphrologie Dialyse et Transplantation (SFNDT) et le réseau de la pratique avancée en soins infirmiers (ANFIPA) organisent le 12 mars 2024 un webinaire dans le cadre de la journée mondiale du rein et sur le thème « Accompagner au mieux les patients dialysés et leurs proches ».  \n\n\n\nLa dialyse a un impact très important sur la qualité de vie des patients\, que ce soit dans sa dimension physique mais aussi dans sa dimension psychique. Ce webinaire sera l’occasion de partager des initiatives visant à mieux accompagner les patients dialysés ainsi que leurs proches. \n\n\n\nAtelier des aidants : offrir un espace de soins et de soulagement \n\n\n\nSandrine Letrecher (IGR\, LPCN) participera à ce webinaire\, elle présentera un exemple d’atelier des aidants. Sa présentation sera suivie de retours d’expérience de patients experts ainsi que d’une présentation de la nouvelle version du guide pratique des personnes dialysés.  \n\n\n\nCe webinaire est à destination des néphrologues\, des IPA\, des autres professionnels de santé exerçant en dialyse\, ainsi que des patients et leurs proches. \n\n\n\n\nPage du webinaire\n\n\n\n\n\n\n\nSandrine Letrecher est docteure en psychologie clinique\, elle a soutenu sa thèse de doctorat en psychologie en 2021 au LPCN\, sous la direction de Nadine Proia-Lelouey (PR\, LPCN). Elle fait partie des membres associés du LPCN et elle est également ingénieure de recherche au laboratoire.
URL:https://lpcn.unicaen.fr/evenement/webinaire-accompagner-au-mieux-les-patients-dialyses-et-leurs-proches/
CATEGORIES:Communications
ATTACH;FMTTYPE=image/jpeg:https://lpcn.unicaen.fr/wp-content/uploads/sites/5/2024/03/doctors-2607295_1280.jpg
ORGANIZER;CN="Soci%C3%A9t%C3%A9 francophone de n%C3%A9phrologie dialyse et transplantation (SFNDT) et l'association nationale fran%C3%A7aise des infirmer.e.s en pratique avanc%C3%A9e (ANFIPA)":MAILTO:n.revel@sfndt.org
END:VEVENT
BEGIN:VEVENT
DTSTART;TZID=Europe/Paris:20240314T083000
DTEND;TZID=Europe/Paris:20240315T170000
DTSTAMP:20260420T094803
CREATED:20240226T140718Z
LAST-MODIFIED:20250602T090318Z
UID:48535-1710405000-1710522000@lpcn.unicaen.fr
SUMMARY:Colloque autour des travaux de Henri Sztulman - Le complexe d'Oedipe à la lumière de la clinique contemporaine en psychopathologie
DESCRIPTION:Les 14 et 15 mars 2024\, se tiendra un colloque intitulé Le complexe d’Oedipe à la lumière de la clinique contemporaine en psychopathologie. Astrid Hirschelmann (PR\, LPCN\, Unicaen) ainsi que la direction du Master de Psychologie psychodynamique clinique et pathologique\, organisent cet événement national autour des travaux de Henri Sztulman (psychiatre et psychanalyste\, PR\, Université Jean Jaurès\, Toulouse). Invité du colloque et parrain des étudiants de l’Université de Caen en Master 1 et 2 – PDCP\, celui-ci occupera la place de grand témoin.  \n\n\n\nCe colloque a pour objectif d’interroger l’évolution du complexe d’Œdipe dans notre société contemporaine notamment aux travers de ses multiples visages : clinique du passage à l’acte\, approche symptomatologique\, etc. Si l’universalité du complexe d’Œdipe a pu faire l’objet de controverses\, il n’en demeure pas moins qu’il reste considéré comme un organisateur de la vie psychique.  \n\n\n\nCet évènement a pour ambition de discuter et éclairer la clinique des passages à l’acte\, des addictions\, de l’adolescence et des personnalités limites au travers du fil rouge de l’œuvre d’Henri Sztulman\, afin de saisir les lignes de force actuelles qui traversent notre société contemporaine. \n\n\n\n\nHenri Sztulman est un professeur émérite à l’université Jean Jaurès de Toulouse. Il est médecin-psychiatre et psychanalyste. Neuro-psychiatre de formation\, il pratique depuis 1969 la psychiatrie et la psychothérapie psychanalytique. Il a travaillé pendant plus de 25 ans dans diverses institutions relevant de différentes associations. \n\n\n\nHenri Sztulman a publié Psychanalyse et Humanisme\, Manifeste contre les impostures de la pensée dominante aux Éditions « Rue des Gestes »\, Ombres Blanches. \n\n\n\n\nLe colloque aura lieu en présentiel dans l’amphithéâtre de la MRSH\, situé sur le Campus 1 de l’Université de Caen Normandie\, mais également en visio. \n\n\n\n\nProgramme\n\n\n\nInscription
URL:https://lpcn.unicaen.fr/evenement/colloque-autour-des-travaux-de-henri-sztulman-le-complexe-doedipe-a-la-lumiere-de-la-clinique-contemporaine-en-psychopathologie/
LOCATION:Caen · Campus 1 · Maison de la recherche en sciences humaines (MRSH) · Amphi\, Campus 1\, Maison de la recherche en sciences humaines (MRSH)\, 1 Esplanade de la Paix\, Caen\, 14000\, France
CATEGORIES:Congrès - Colloque
ATTACH;FMTTYPE=image/jpeg:https://lpcn.unicaen.fr/wp-content/uploads/sites/5/2024/02/complexe-odipe-seminaire-2024.jpg
ORGANIZER;CN="Laboratoire en psychologie Caen Normandie (LPCN)":MAILTO:lpcn@unicaen.fr
END:VEVENT
BEGIN:VEVENT
DTSTART;TZID=Europe/Paris:20240322T100000
DTEND;TZID=Europe/Paris:20240322T120000
DTSTAMP:20260420T094803
CREATED:20240228T075613Z
LAST-MODIFIED:20240316T081756Z
UID:48561-1711101600-1711108800@lpcn.unicaen.fr
SUMMARY:Séminaire du LPCN 2024 : Laurence Picard : ANNULE
DESCRIPTION:Le séminaire est malheureusement annulé !\n\n\n\nLe séminaire de mars du LPCN sera animé par Laurence Picard (MC\, Laboratoire de recherches intégratives en neurosciences et psychologie cognitive (LINC – UMR 1322)\, Université de Franche-Comté). \n\n\n\nFonctionnement de la mémoire chez l’enfant et facteurs stratégiques et sociaux\n\n\n\nRésumé à venir \n\n\n\n\nPage researchgate de L. Picard\n\n\n\nPage du laboratoire LINC\n\n\n\n\nLe séminaire aura lieu le vendredi 22 mars 2024\, de 10h à 12h\, dans la salle des actes de la Maison de la Recherche en Sciences Humaines de Caen (MRSH)\, située sur le Campus 1 de l’Université de Caen Normandie. \n\n\n\nIl est ouvert au personnel et aux étudiants de l’université de Caen\, ainsi qu’au public.
URL:https://lpcn.unicaen.fr/evenement/seminaire-du-lpcn-2024-laurence-picard/
LOCATION:Caen · Campus 1 · Maison de la recherche en sciences humaines (MRSH) · Salle des Actes\, Campus 1\, Maison de la recherche en sciences humaines (MRSH)\, 1 Esplanade de la Paix\, Caen\, 14000\, France
CATEGORIES:Séminaire
ATTACH;FMTTYPE=image/jpeg:https://lpcn.unicaen.fr/wp-content/uploads/sites/5/2024/02/boy-8209561_1280.jpg
ORGANIZER;CN="Laboratoire en psychologie Caen Normandie (LPCN)":MAILTO:lpcn@unicaen.fr
END:VEVENT
BEGIN:VEVENT
DTSTART;TZID=Europe/Paris:20240327T090000
DTEND;TZID=Europe/Paris:20240327T170000
DTSTAMP:20260420T094803
CREATED:20240319T145531Z
LAST-MODIFIED:20250602T090311Z
UID:48628-1711530000-1711558800@lpcn.unicaen.fr
SUMMARY:Journée d’étude l'éducation inclusive aujourd'hui
DESCRIPTION:Le 27 mars 2024\, se tiendra la journée d’étude « L’éducation inclusive aujourd’hui » consacrée à un enjeu sociétal majeur\, l’inclusion scolaire\, ses freins et ses leviers. Cet événement mettra en lumière\, à travers des recherches en cours\, la définition de l’école inclusive\, les attitudes et les pratiques du personnel enseignant\, les élèves à besoins éducatifs particuliers\, les formations\, etc. Cela sera aussi  l’occasion de présenter les actions du pôle pilote 100% Inclusion\, un Défi\, un Territoire\, un projet de recherche de grande ampleur\, dont l’INSPÉ de Caen Normandie et l’Académie de Normandie sont partenaire. La journée se conclura par une table ronde afin que différents acteurs du terrain et de la recherche apportent leur témoignage sur l’éducation inclusive aujourd’hui. \n\n\n\nLa journée d’étude aura lieu dans l’amphithéâtre de l’INSPE Caen Normandie. \n\n\n\n\nProgramme\n\n\n\nPage de l’événement INSPE\n\n\n\n\n\nCette journée est organisée par l’INSPE\, et plus précisément par Sandrine Rossi (PR\, LPCN)\, directrice adjointe à la Recherche de l’INSPE Normandie Caen et directrice adjointe du LPCN. Ses thématiques de recherche actuelles concernent le développement cognitif de la pensée\, les processus d’autorégulation et la métacognition.
URL:https://lpcn.unicaen.fr/evenement/journee-detude-leducation-inclusive-aujourdhui/
LOCATION:Caen · INSPÉ\, INSPÉ Caen Normandie\, 186 Rue de la Délivrande\, Caen\, 14000\, France
CATEGORIES:Journée d'étude
ATTACH;FMTTYPE=image/jpeg:https://lpcn.unicaen.fr/wp-content/uploads/sites/5/2024/03/journee-inspe.jpg
ORGANIZER;CN="Institut national sup%C3%A9rieur du professorat et de l'%C3%A9ducation Normandie Caen (INSP%C3%89)":MAILTO:inspe.administration@unicaen.fr
END:VEVENT
END:VCALENDAR