BEGIN:VCALENDAR
VERSION:2.0
PRODID:-//LPCN · Laboratoire de Psychologie Caen Normandie - ECPv6.15.18//NONSGML v1.0//EN
CALSCALE:GREGORIAN
METHOD:PUBLISH
X-WR-CALNAME:LPCN · Laboratoire de Psychologie Caen Normandie
X-ORIGINAL-URL:https://lpcn.unicaen.fr
X-WR-CALDESC:Évènements pour LPCN · Laboratoire de Psychologie Caen Normandie
REFRESH-INTERVAL;VALUE=DURATION:PT1H
X-Robots-Tag:noindex
X-PUBLISHED-TTL:PT1H
BEGIN:VTIMEZONE
TZID:Europe/Paris
BEGIN:DAYLIGHT
TZOFFSETFROM:+0100
TZOFFSETTO:+0200
TZNAME:CEST
DTSTART:20240331T010000
END:DAYLIGHT
BEGIN:STANDARD
TZOFFSETFROM:+0200
TZOFFSETTO:+0100
TZNAME:CET
DTSTART:20241027T010000
END:STANDARD
BEGIN:DAYLIGHT
TZOFFSETFROM:+0100
TZOFFSETTO:+0200
TZNAME:CEST
DTSTART:20250330T010000
END:DAYLIGHT
BEGIN:STANDARD
TZOFFSETFROM:+0200
TZOFFSETTO:+0100
TZNAME:CET
DTSTART:20251026T010000
END:STANDARD
BEGIN:DAYLIGHT
TZOFFSETFROM:+0100
TZOFFSETTO:+0200
TZNAME:CEST
DTSTART:20260329T010000
END:DAYLIGHT
BEGIN:STANDARD
TZOFFSETFROM:+0200
TZOFFSETTO:+0100
TZNAME:CET
DTSTART:20261025T010000
END:STANDARD
END:VTIMEZONE
BEGIN:VEVENT
DTSTART;TZID=Europe/Paris:20250904T080000
DTEND;TZID=Europe/Paris:20250906T170000
DTSTAMP:20260420T154542
CREATED:20250828T082618Z
LAST-MODIFIED:20250905T092333Z
UID:49909-1756972800-1757178000@lpcn.unicaen.fr
SUMMARY:ESBRA 2025
DESCRIPTION:The European Society for Biomedical Research on Alcoholism (ESBRA) a été fondée en 1988 en tant qu’organisation scientifique internationale à but non lucratif. Son objectif principal est de promouvoir la recherche médicale et biologique européenne sur l’alcoolisme et les effets de l’alcool. L’ESBRA favorise la coopération scientifique européenne. L’événement le plus important organisé par l’ESBRA est son congrès biannuel\, où sont présentés les derniers résultats et avancées de la recherche biomédicale européenne sur l’alcoolisme et les troubles de l’usage de l’alcool. La 20ème édition de la conférence se tiendra à Bruxelles du 4 au 6 septembre 2025 à l’UCLouvain (Université catholique de Louvain).  \n\n\n\nDes membres du LPCN seront présents lors de cet évènement. \n\n\n\n\nMaëlle Fleury est doctorante au LPCN\, elle prépare une thèse en psychologie sous la direction de Jessica Mange (MC HDR\, LPCN) et co-encadrée par Maxime Mauduy (MC\, LPS\, Paris cité). Elle interviendra le 5 septembre à 17h50 et réalisera une présentation intitulée : \n\n\n\n\nALCOHOL-RELATED PROTECTIVE BEHAVIORAL STRATEGIES AMONG STUDENTS: PATTERNS OF USE AND WHAT PSYCHOSOCIAL FACTORS MAY HINDER ADOPTIONMaëlle Fleury (doctorante\, LPCN\, Université de Caen)\, Mauduy Maxime (MC\, LPS\, Paris cité)\, Jessica Mange (MC HDR\, LPCN\, Université de Caen) – SESSION 32 – Chairs \n\n\n\n\nHélène Beaunieux est Professeure en Neuropsychologie au LPCN\, ses recherches portent sur la neuropsychologie des addictions. Elle interviendra le 4 septembre à 9h35 et réalisera une présentation orale intitulée : \n\n\n\n\nUNDERSTANDING TOM AND MOTIVATION IN THERAPEUTIC COMMUNITY RESIDENTSHélène Beaunieux (PU\, LPCN\, Université de Caen)\, Simon Deniel (neuropsychologue\, docteur en psychologie)\, Marion Delarue (IGE\, PhIND\, Inserm)\, Héloïse Jaunet (psychologue\, communauté thérapeutique d’Aubervilliers)\, Susie Longbottom (déléguée Aurore en charge du counselling\, Communauté thérapeutique d’Aubervilliers)\, Nicolas Kenens (chef de service\, communauté thérapeutique d’Aubervilliers)\, Louise Quételard (psychologue\, Communauté thérapeutique de la sauvegarde du Nord)\, Stéphane Lozé (directeur\, Communauté thérapeutique de la sauvegarde du Nord)\, Maïlys Miquel (psychologue\, Communauté thérapeutique du fleuve)\, Nicolas Bourguignon (directeur\, Communauté thérapeutique du fleuve)\, Christophe Rimbaud (directeur\, Communauté thérapeutique de Barsac)\, Marine Gaubert (responsable de mission\, Fédération Addiction)\, Ludivine Ritz  (MC HDR\, LPCN\, Université de Caen) – SESSION 13 – Chairs \n\n\n\nElle réalisera une seconde présentation orale le 5 septembre à 9h30 intitulée : \n\n\n\nMIND THE GAP: SUBSTANCE USE\, GENDER\, AND METACOGNITIVE FAILURE IN HIGHER EDUCATION \n\n\n\nHélène Beaunieux (PU\, LPCN\, Université de Caen)\, Charlotte Montcharmont (IGE\, LPCN\, Université de Caen)\, Nicolas Mauny (MC\, Laboratoire de Psychologie\, Université de Franche-Comté)\, Ludivine Ritz (MC HDR\, LPCN\, Université de Caen) – SESSION 29 – Chairs \n\n\n\n\nLudivine Ritz est enseignante-chercheuse HDR au LPCN\, ses recherches portent sur la neuropsychologie\, les addictions\, les fonctions exécutives et les neurosciences cognitives. Elle interviendra le 4 septembre à 9h35 et réalisera une présentation orale intitulée : \n\n\n\n\nINTEGRATING NEUROPSYCHOLOGICAL SUPPORT IN THERAPEUTIC COMMUNITIES: IMPACT ON ADDICTION AND FUNCTIONAL OUTCOMES AT SIX-MONTH FOLLOW UP Ludivine Ritz  (MC HDR\, LPCN\, Université de Caen)\, Simon Deniel (neuropsychologue\, docteur en psychologie)\, Marion Delarue (IGE\, PhIND\, Inserm)\, Héloïse Jaunet (psychologue\, communauté thérapeutique d’Aubervilliers)\, Susie Longbottom (déléguée Aurore en charge du counselling\, Communauté thérapeutique d’Aubervilliers)\, Nicolas Kenens (chef de service\, communauté thérapeutique d’Aubervilliers)\, Louise Quételard (psychologue\, Communauté thérapeutique de la sauvegarde du Nord)\, Stéphane Lozé (directeur\, Communauté thérapeutique de la sauvegarde du Nord)\, Maïlys Miquel (psychologue\, Communauté thérapeutique du fleuve)\, Nicolas Bourguignon (directeur\, Communauté thérapeutique du fleuve)\, Christophe Rimbaud (directeur\, Communauté thérapeutique de Barsac)\, Marine Gaubert (responsable de mission\, Fédération Addiction)\, Hélène Beaunieux (PU\, LPCN\, Université de Caen) – SESSION 13 – Chairs \n\n\n\nElle réalisera une seconde présentation orale le 5 septembre à 9h30 intitulée : \n\n\n\nTEMPORAL ASSOCIATIONS BETWEEN FOOD AND ALCOHOL DISTURBANCE AND COGNITIVE FUNCTIONING IN YOUNG ADULTS: A CROSS-LAGGED PANEL ANALYSIS OVER TWO YEARS \n\n\n\nLudivine Ritz (MC HDR\, LPCN\, Université de Caen)\, Nicolas Mauny (MC\, Laboratoire de Psychologie\, Université de Franche-Comté)\, Charlotte Montcharmont (IGE\, LPCN\, Université de Caen)\, Hélène Beaunieux (PU\, LPCN\, Université de Caen) – SESSION 29 – Chairs \n\n\n\n\nCongrès ESBRA\n\n\n\nProgramme ADDICTION
URL:https://lpcn.unicaen.fr/evenement/esbra-2025/
LOCATION:Louvain-la-Neuve · UCLouvain Faculté de droit et de criminologie\, UCLouvain Faculté de droit et de criminologie\, Place Montesquieu 2\, Louvain-la-Neuve\, 1348\, France
CATEGORIES:Communications,Congrès - Colloque
ATTACH;FMTTYPE=image/jpeg:https://lpcn.unicaen.fr/wp-content/uploads/sites/5/2025/08/esbra-2025.jpg
ORGANIZER;CN="European society for biomedical research on alcoholism (ESBRA)":MAILTO:office@esbra.com
END:VEVENT
BEGIN:VEVENT
DTSTART;TZID=Europe/Paris:20250909T080000
DTEND;TZID=Europe/Paris:20250909T170000
DTSTAMP:20260420T154542
CREATED:20250904T152928Z
LAST-MODIFIED:20250905T095709Z
UID:49964-1757404800-1757437200@lpcn.unicaen.fr
SUMMARY:Journée d'étude 2025 de l'association francophone de psychologie politique
DESCRIPTION:L’Association Francophone de Recherche en Psychologie Politique (AFR-PsyPol) a été créée en 2023 afin de promouvoir la recherche en psychologie politique et d’établir un réseau entre chercheurs et chercheuses de cette discipline. L’association se réunit tous les ans lors de l’assemblée générale et organise des évènements réguliers autour de la psychologie politique. Le 9 septembre 2025\, l’AFR-PsyPol organise sa première journée d’étude en ligne\, intitulée : Psychologie politique – Directions présentes et futures. Cette journée vise à encourager les échanges scientifiques sur les enjeux actuels et les perspectives futures de la psychologie politique et ouvrir un dialogue interdisciplinaire sur ces sujets. Camille Langlais (docteure en psychologie\, LPCN) et (Cécile Sénémeaud\, PR\, LPCN) interviendront lors de cet événement à 10h\, au cours de la session Blitz 1 – Recherche appliquée. Elles présenteront une communication orale intitulée : \n\n\n\n« Vers une évolution de l’approche dominante pour étudier les effets de la distance psychologique sur les comportements en faveur du climat »\n\n\n\nCamille Langlais (docteure en psychologie\, LPCN\, Université de Caen Normandie) et Cécile Sénémeaud (PR\, LPCN\,  Université de Caen Normandie)  \n\n\n\n\nAbstract\nEn France\, de nouvelles formes de gestion des enjeux climatiques conduisent aujourd’hui à une communication plus territorialisée. En psychologie\, ce format rappelle la stratégie de proximisation du changement climatique (CC)\, développée pour favoriser les comportements pro-environnementaux. Toutefois\, nos travaux révèlent que son efficacité est limitée au niveau individuel. A travers trois perspectives théorico-méthodologiques\, cette communication vise à présenter l’intérêt d’élargir l’évaluation de cette stratégie à d’autres niveaux d’analyse pour mieux saisir ses implications. Premièrement\, la proximisation du CC individualiserait cet enjeu et pourrait ainsi freiner la coopération lors de tâches de dilemmes sociaux. Deuxièmement\, elle négligerait les questions de justice climatique conduisant à renforcer des réponses ethnocentrées (e.g.\, biais de favoritisme endogroupe). Troisièmement\, elle représenterait le récit dominant adopté par de nombreux·euses chercheurs·euses et acteur·rices politiques (« le CC est un risque distant qu’il faut proximiser ») et masquerait l’hétérogénéité des rapports au CC que des recherches participatives pourraient révéler.  \n\n\n\n\n\n\nProgramme AFR-PsyPol\n\n\n\nLe programme PROECO\n\n\n\n\n\nCamille Langlais (docteure en psychologie\, LPCN) a soutenu sa thèse en psychologie en mai 2025 au LPCN\, sous la direction de Cécile Sénémeaud (PR\, LPCN) et de Christophe Démarque (MC\, ALLSH\, Aix Marseille Université).
URL:https://lpcn.unicaen.fr/evenement/journee-detude-2025-de-lassociation-francophone-de-psychologie-politique/
LOCATION:En distanciel
CATEGORIES:Communications,Journée d'étude
ATTACH;FMTTYPE=image/png:https://lpcn.unicaen.fr/wp-content/uploads/sites/5/2025/09/AFR-PSYPOL-ASSOCIATTION-FRANCOPHONE-DE-PSYCHOLOGIE-POLITIQUE-1472-x-200-px-800-x-200-px-800-x-200-px-1.png
ORGANIZER;CN="Association francophone pour la recherche en psychologie politique (AFR-PSYPOL)":MAILTO:afr.psypol@gmail.com
END:VEVENT
BEGIN:VEVENT
DTSTART;TZID=Europe/Paris:20250915T083000
DTEND;TZID=Europe/Paris:20250918T183000
DTSTAMP:20260420T154542
CREATED:20250902T125109Z
LAST-MODIFIED:20250905T074219Z
UID:49933-1757925000-1758220200@lpcn.unicaen.fr
SUMMARY:ECRO 2025
DESCRIPTION:The European Chemoreception Research Organization (ECRO) soutient la recherche fondamentale et appliquée en sciences « chimiosensorielles »\, notamment les travaux sur l’olfaction et le goût chez les vertébrés et les invertébrés. Le congrès de l’ECRO se déroulera cette année à Bilbao\, en Espagne\, du 15 au 18 septembre 2025. Un membre du LPCN sera présent lors de cet événement. \n\n\n\n\nMaryse Delaunay est maîtresse de conférences au LPCN. Ses recherches portent sur le développement de la cognition olfactive\, son objectif est de comparer les trajectoires de développement de jeunes enfants évoluant au sein de contextes socio-éducatifs différents. Elle est impliquée dans le programme de recherche SCOPE. Elle interviendra le 16 septembre à 16h et présentera un poster intitulé : \n\n\n\n\n« The benefits of an early olfactory awakening for the development of conscious olfactory skills« \n\n\n\nMaryse Delaunay (MC\, LPCN\, Université de Caen)\, Ana Reutimann (psychologue\, Centre Hospitalier Robert Bisson\, Lisieux) & Marie Anquetil (docteure en psychologie\, LPCN\, Université de Caen). \n\n\n\n\nAbstract\nIn western societies\, sensory awakening neglects olfaction\, despite its essential role in feeding\, danger avoidance and overall development. Some studies report olfactory performances in young children from birth. Scarce studies further show that young children can pay attention to olfactory stimuli when invited to do so. However\, how an awakening olfaction intervention promotes the early development of early olfactory skills has not been described yet. This is the aim of the present pilot study of the EVOLF project\, carried out in a nursery from Normandy (France). \n\n\n\nA follow-up of 13 children (7 males) from 16 to 42 months (M= 31 ± 10 months) began after obtaining written ethical agreements\, as well as parental permission. The children were videotaped facing natural scented objects presented successively\, during 3 phases : before\, during and after an olfactory awakening intervention. Using The Observer® XT17 (Noldus)\, two independent observers annotated\, in number and duration\, the actions of smelling and looking at the object immediately after odorant detection\, that reveals a conscious olfactory detection. They also recorded the duration of behavioural inhibition. The observations were reliable (k> 0.8). \n\n\n\nWilcoxon tests\, comparing the target behaviours displayed during various phases\, were first calculated to estimate the impact of the intervention. But\, since we were unable to recruit a control group with similar characteristics than those of the group awaken\, and because only 9 children were followed-up until the end\, individual developmental trajectories were also compared. \n\n\n\nThe results revealed a significant change in olfactory exploration during and after olfactory awakening (p<0.05). However\, individual developmental trajectories varied. Inhibited children did not explore odorants. This pilot study proves that early olfactory awakening allows the emergence of conscious olfactory skills\, but also that behavioural inhibition blocks children’s cognitive engagement. \n\n\n\nFinancial support from CapEnfants® and LPCN (UR 7452 ). \n\n\n\n\n\n\nProgramme congrès\n\n\n\nProgramme SCOPE LPCN
URL:https://lpcn.unicaen.fr/evenement/ecro-2025/
LOCATION:Bilbao · Bizkaia Aretoa · UPV/EHU\, Bizkaia Aretoa\, Abandoibarra Etorb.\, 3\, Abando\, Bilbao\, 48009\, Spain
CATEGORIES:Communications,Congrès - Colloque
ATTACH;FMTTYPE=image/jpeg:https://lpcn.unicaen.fr/wp-content/uploads/sites/5/2025/09/ecro2025.jpg
ORGANIZER;CN="European chemoreception research organization (ECRO)":MAILTO:ecro2025@azulcongresos.com
END:VEVENT
END:VCALENDAR